Workbook

Sheet Kallinemise koondtabel
A1: Lõuna regiooni asfaltkatete kuumtaastamine remix meetodil ja Waide ristmiku ümber ehitus
A2: Tee-ehituse töövõtuleping | B2: 3.2-3/26/258-1
A3: Viitenumber | B3: 304446
A4: Objekt 1 - Riigitee nr 2 Tallinn-Tartu-Võru-Luhamaa km 125.687-129.831 remix
A5: Objekt 2 - Riigitee nr 2 Tallinn-Tartu-Võru-Luhamaa km 215.446-222.746 remix
A6: Objekt 3 - Riigitee nr 3 Jõhvi-Tartu-Valga km 155.421-174.493 remix
A7: Objekt 4 - Riigitee nr 3 Jõhvi-Tartu-Valga km 162.837 asuva Waide ristmiku ümberehitamine
A8: REMIX
A9: Diislikütuse kallinemine (remix), € | B9: =+Remix!D119 -> 4995.6064
A10: Diislikütuse kallinemine (remixi asfaldi vedu), € | B10: =+Remix!L18+Remix!L41+Remix!L65 -> 4299.2456
A11: Vedelgaasi kallinemine (propaani-butaani segu kuumutitele, €) | B11: =+Remix!D102 -> 32704.707
A12: Töö maksumus kokku remix objekt 1-3, € | B12: =+Remix!G7+Remix!G30+Remix!G53 -> 950709.42
A13: Kallinemise osakaal tööde maksumusest kokku, % | B13: =(B9+B10+B11)/B12*100 -> 4.4177073
A14: ASFALTEERIMINE
A15: Diislikütuse kallinemine (asfalteerimine), € | B15: =Asfalteerimine!D120 -> 3483.4193
A16: Diislikütuse kallinemine (asfaldi vedu), € | B16: =Asfalteerimine!K21+Asfalteerimine!K31+Asfalteerimine!K41+Asfalteerimine!K51+Asfalteerimine!K61+Asfalteerimine!K71+Asfalteerimine!K81+Asfalteerimine!K91+Asfalteerimine!K101 -> 2161.7822
A17: Töö maksumus kokku remix objekt 1-4, € | B17: =+Asfalteerimine!E23+Asfalteerimine!E33+Asfalteerimine!E43+Asfalteerimine!E53+Asfalteerimine!E63+Asfalteerimine!E73+Asfalteerimine!E83+Asfalteerimine!E93+Asfalteerimine!E103 -> 398923.77
A18: Kallinemise osakaal tööde maksumusest kokku, % | B18: =(B15+B16)/B17*100 -> 1.4151078
A19: FREESIMINE
A20: Diislikütuse kallinemine (freesimine), € | B20: =+Freesimine!D97 -> 3391.5617
A21: Diislikütuse kallinemine (freespuru vedu), € | B21: =+Freesimine!K21+Freesimine!K29+Freesimine!K37+Freesimine!K45+Freesimine!K53+Freesimine!K61+Freesimine!K69+Freesimine!K77+Freesimine!K85 -> 1262.2699
A22: Töö maksumus kokku remix objekt 1-4, € | B22: =+Freesimine!E22+Freesimine!E30+Freesimine!E38+Freesimine!E54+Freesimine!E62+Freesimine!E70+Freesimine!E78+Freesimine!E86 -> 51873.54
A23: Kallinemise osakaal tööde maksumusest kokku % | B23: =(B20+B21)/B22*100 -> 8.9714941
A24: PEENARDE KINDLUSTAMINE
A25: Diislikütuse kallinemine (peenramaterjali vedu), € | B25: =+'Peenramaterjali vedu'!G43+'Peenramaterjali vedu'!G22 -> 3468.67
A26: Töö maksumus kokku remix objekt 2-3, € | B26: =+'Peenramaterjali vedu'!G17+'Peenramaterjali vedu'!G38 -> 103872.91
A27: Kallinemise osakaal tööde maksumusest kokku % | B27: =(B25)/B26*100 -> 3.3393404
A28: Kallinemine kokku % | B28: =+B25+B21+B20+B16+B15+B11+B10+B9 -> 55767.262

Sheet Remix
A1: Tööde teostamine: | B1: Juuni - juuli 2026
A2: Objekt 1 - Riigitee nr 2 Tallinn-Tartu-Võru-Luhamaa km 125.687-129.831 remix
A3: Transport | I3: 40500 | J3: m2
I4: 4 | J4: ööd
A5: Artikli nr | C5: Makseartikli nimetus | D5: Mõõtühik | E5: Kokku teostatud tööde maht | F5: Üh.hind | G5: Summa
A6: 1 | C6: 2 | D6: 3 | E6: 4 | F6: 5 | G6: 6
A7: 42106*BHK | B7: a | C7: Sõidurajaremix; SMA16 | D7: m2 | E7: 46429.8 | F7: 4.2 | G7: =ROUND(E7*F7,2) -> 195005.16
A9: Materjal/mehhanism/ettevõte | B9: Maksumus kokku, € | C9: Märkused | D9: €/m2 | E9: Osakaal hinnast, % | F9: Maksumus, €
A10: Vedelgaas | B10: =$I$3*650*0.00085 -> 22376.25 | C10: Vedelgaasi hind 650€/t ning kulu 0.85kg/m2 - arvestatud öötööna ja madalam õhutemperatuur | D10: =+B10/$I$3 -> 0.5525 | E10: =B10/$B$23 -> 0.13154762 | F10: =+D10*$E$7 -> 25652.465
A11: SMA 16 | B11: =$I$3*0.015*77.2 -> 46899 | C11: SMA 16 hind 77.20€/t ning kulu 15kg/m2 | D11: =+B11/$I$3 -> 1.158 | E11: =B11/$B$23 -> 0.27571429 | F11: =+D11*$E$7 -> 53765.708
A12: Eritreiler (remixer) - Muuga sadam - Neanurme - Tallinn | B12: =140*2*3.5 -> 980 | C12: Vahemaa 140km (x 2) ja hind 3.5€/km | D12: =+B12/$I$3 -> 0.024197531 | E12: =B12/$B$23 -> 0.0057613169 | F12: =+D12*$E$7 -> 1123.4865
A13: Tavaline treiler (rullid) - Tartu - Muuga sadam - Neanurme - Tartu | B13: =200*2*1.7 -> 680 | C13: Vahemaa 200km (x 2) ja hind 1.7€/km | D13: =+B13/$I$3 -> 0.016790123 | E13: =B13/$B$23 -> 0.0039976484 | F13: =+D13*$E$7 -> 779.56207
A14: Asfalttikallio OY öötöö | B14: =40500*2.02 -> 81810 | C14: 2.02€/m2 | D14: =+B14/$I$3 -> 2.02 | E14: =B14/$B$23 -> 0.48095238 | F14: =+D14*$E$7 -> 93788.196
A15: Majutus | B15: =10*50*$I$4 -> 2000 | C15: 10 inimest ja 50€/öö | D15: =+B15/$I$3 -> 0.049382716 | E15: =B15/$B$23 -> 0.01175779 | F15: =+D15*$E$7 -> 2292.8296
A16: Töömees | B16: =20*14*$I$4 -> 1120 | C16: 4 ööd ja 14h/tööpäev | D16: =+B16/$I$3 -> 0.027654321 | E16: =B16/$B$23 -> 0.0065843621 | F16: =+D16*$E$7 -> 1283.9846
A17: Töölise/kütuse transport | B17: =50*$I$4 -> 200 | C17: 4 tööpäeva | D17: =+B17/$I$3 -> 0.0049382716 | E17: =B17/$B$23 -> 0.001175779 | F17: =+D17*$E$7 -> 229.28296 | H17: m2 | I17: Vedu pärast kütuste hinna tõusu (€) | J17: m2 | K17: Vedu pärast kütuste hinna tõusu (€) | L17: Veo kallinemine, €
A18: Asfaldi vedu | B18: =49*12*4*$I$4 -> 9408 | C18: 4ööd, 49€/h, 4tk ja 12h | D18: =+B18/$I$3 -> 0.2322963 | E18: =B18/$B$23 -> 0.055308642 | F18: =+D18*$E$7 -> 10785.471 | H18: 40500 | I18: =54*4*12*4 -> 10368 | J18: 46429.8 | K18: =+I18*J18/H18 -> 11886.029 | L18: =+K18-F18 -> 1100.5582
A19: Vee- ja harjaauto | B19: =40*10*$I$4 -> 1600 | C19: 4 tööpäeva ja 10h/päev | D19: =+B19/$I$3 -> 0.039506173 | E19: =B19/$B$23 -> 0.0094062316 | F19: =+D19*$E$7 -> 1834.2637
A20: Soolokallur | B20: =40*10*$I$4 -> 1600 | C20: 4 tööpäeva ja 10h/päev | D20: =+B20/$I$3 -> 0.039506173 | E20: =B20/$B$23 -> 0.0094062316 | F20: =+D20*$E$7 -> 1834.2637
A21: Minilaadur | B21: =$I$4*14*8 -> 448 | C21: 4 tööpäeva ja 8h/päev | D21: =+B21/$I$3 -> 0.011061728 | E21: =B21/$B$23 -> 0.0026337449 | F21: =+D21*$E$7 -> 513.59384
A22: Muud kulud | B22: =(170100/40500-SUM(B10:B21)/40500)*40500 -> 978.75 | C22: BORNIT vuukide töötlemiseks ja töö teostamine, valve | D22: =+B22/$I$3 -> 0.024166667 | E22: =B22/$B$23 -> 0.0057539683 | F22: =+D22*$E$7 -> 1122.0535
A23: Summa | B23: =+SUM(B10:B22) -> 170100 | D23: =+SUM(D10:D22) -> 4.2 | E23: €/m2 | F23: =+SUM(F10:F22) -> 195005.16
A25: Objekt 2 - Riigitee nr 2 Tallinn-Tartu-Võru-Luhamaa km 215.446-222.746 remix
I26: 52560 | J26: m2
I27: 4 | J27: päeva
A28: Artikli nr | C28: Makseartikli nimetus | D28: Mõõtühik | E28: Kokku teostatud tööde maht | F28: Üh.hind | G28: Summa
A29: 1 | C29: 2 | D29: 3 | E29: 4 | F29: 5 | G29: 6
A30: 42106*BHK | B30: a | C30: Sõidurajaremix; AC 16 Surf | D30: m2 | E30: 56878 | F30: 3.87 | G30: =ROUND(E30*F30,2) -> 220117.86
A32: Materjal/mehhanism/ettevõte | B32: Maksumus kokku, € | C32: Märkused | D32: €/m2 | E32: Osakaal hinnast, % | F32: Maksumus, €
A33: Vedelgaas | B33: =$I$26*0.00075*650 -> 25623 | C33: Vedelgaasi hind 650€/t ning kulu 0.75kg/m2 | D33: =+B33/$I$26 -> 0.4875 | E33: =B33/$B$46 -> 0.12596899 | F33: =+D33*$E$30 -> 27728.025
A34: AC 16 surf | B34: =$I$26*0.015*68.9 -> 54320.76 | C34: AC 16 surf hind 68.90€/t ning kulu 15kg/m2 | D34: =+B34/$I$26 -> 1.0335 | E34: =B34/$B$46 -> 0.26705426 | F34: =+D34*$E$30 -> 58783.413
A35: Eritreiler (remixer) - Tallinn - Neanurme - Saverna - Tallinn | B35: =250*2*3.5 -> 1750 | C35: Vahemaa 250km (x 2) ja hind 3.5€/km | D35: =+B35/$I$26 -> 0.033295282 | E35: =B35/$B$46 -> 0.0086034319 | F35: =+D35*$E$30 -> 1893.769
A36: Tavaline treiler (rullid) - Tartu - Neanurme - Saverna - Tartu | B36: =200*1.7 -> 340 | C36: Vahemaa 200km ja hind 1.7€/km | D36: =+B36/$I$26 -> 0.0064687976 | E36: =B36/$B$46 -> 0.0016715239 | F36: =+D36*$E$30 -> 367.93227
A37: Asfalttikallio OY | B37: =$I$26*1.95 -> 102492 | C37: 1.95€/m2 | D37: =+B37/$I$26 -> 1.95 | E37: =B37/$B$46 -> 0.50387597 | F37: =+D37*$E$30 -> 110912.1
A38: Majutus | B38: =10*50*I27 -> 2000 | C38: 10 inimest ja 50€/öö | D38: =+B38/$I$26 -> 0.03805175 | E38: =B38/$B$46 -> 0.0098324936 | F38: =+D38*$E$30 -> 2164.3075
A39: Töömees | B39: =20*14*I27 -> 1120 | C39: 4 ööd ja 14h/tööpäev | D39: =+B39/$I$26 -> 0.02130898 | E39: =B39/$B$46 -> 0.0055061964 | F39: =+D39*$E$30 -> 1212.0122
A40: Töölise/kütuse transport | B40: =50*I27 -> 200 | C40: 4 tööpäeva | D40: =+B40/$I$26 -> 0.003805175 | E40: =B40/$B$46 -> 0.00098324936 | F40: =+D40*$E$30 -> 216.43075 | H40: m2 | I40: Vedu pärast kütuste hinna tõusu (€) | J40: m2 | K40: Vedu pärast kütuste hinna tõusu (€) | L40: Veo kallinemine, €
A41: Asfaldi vedu | B41: =49*12*4*I27 -> 9408 | C41: 4ööd, 49€/h, 4tk ja 12h | D41: =+B41/$I$26 -> 0.17899543 | E41: =B41/$B$46 -> 0.04625205 | F41: =+D41*$E$30 -> 10180.902 | H41: 52560 | I41: =54*4*12*4 -> 10368 | J41: 56878 | K41: =+I41*J41/H41 -> 11219.77 | L41: =+K41-F41 -> 1038.8676
A42: Vee- ja harjaauto | B42: =40*10*I27 -> 1600 | C42: 4 tööpäeva ja 10h/päev | D42: =+B42/$I$26 -> 0.0304414 | E42: =B42/$B$46 -> 0.0078659949 | F42: =+D42*$E$30 -> 1731.446
A43: Soolokallur | B43: =40*10*I27 -> 1600 | C43: 4 tööpäeva ja 10h/päev | D43: =+B43/$I$26 -> 0.0304414 | E43: =B43/$B$46 -> 0.0078659949 | F43: =+D43*$E$30 -> 1731.446
A44: Minilaadur | B44: =I27*14*8 -> 448 | C44: 4 tööpäeva ja 8h/päev | D44: =+B44/$I$26 -> 0.0085235921 | E44: =B44/$B$46 -> 0.0022024786 | F44: =+D44*$E$30 -> 484.80487
A45: Muud kulud | B45: =(203407.2/52560-SUM(B33:B44)/I26)*52560 -> 2505.44 | C45: BORNIT vuukide töötlemiseks ja töö teostamine, valve | D45: =+B45/$I$26 -> 0.047668189 | E45: =B45/$B$46 -> 0.012317361 | F45: =+D45*$E$30 -> 2711.2712
A46: Summa | B46: =+SUM(B33:B45) -> 203407.2 | D46: =+SUM(D33:D45) -> 3.87 | E46: €/m2 | F46: =+SUM(F33:F45) -> 220117.86
A48: Objekt 3 - Riigitee nr 3 Jõhvi-Tartu-Valga km 155.421-174.493 remix
I49: 135878 | J49: m2
I50: 10 | J50: päeva
A51: Artikli nr | C51: Makseartikli nimetus | D51: Mõõtühik | E51: Kokku teostatud tööde maht | F51: Üh.hind | G51: Summa
A52: 1 | C52: 2 | D52: 3 | E52: 4 | F52: 5 | G52: 6
A53: 42106*BHK | B53: a | C53: Sõidurajaremix; AC 16 Surf | D53: m² | E53: 146736 | F53: 3.65 | G53: =ROUND(E53*F53,2) -> 535586.4
A56: Materjal/mehhanism/ettevõte | B56: Maksumus kokku, € | C56: Märkused | D56: €/m2 | E56: Osakaal hinnast, % | F56: Maksumus, €
A57: Vedelgaas | B57: =I49*0.00075*650 -> 66240.525 | C57: Vedelgaasi hind 650€/t ning kulu 0.75kg/m2 | D57: =+B57/$I$49 -> 0.4875 | E57: =+B57/$B$70 -> 0.13356164 | F57: =+D57*$E$53 -> 71533.8
A58: AC 16 surf | B58: =I49*0.015*68.9 -> 140429.91 | C58: AC 16 surf hind 68.90€/t ning kulu 15kg/m2 | D58: =+B58/$I$49 -> 1.0335 | E58: =+B58/$B$70 -> 0.28315068 | F58: =+D58*$E$53 -> 151651.66
A59: Eritreiler (remixer) - Tallinn - Neanurme - Saverna - Tallinn | B59: =300*2*3.5 -> 2100 | C59: Vahemaa 300km (x 2) ja hind 3.5€/km | D59: =+B59/$I$49 -> 0.015455041 | E59: =+B59/$B$70 -> 0.0042342577 | F59: =+D59*$E$53 -> 2267.8108
A60: Tavaline treiler (rullid) - Tartu - Neanurme - Saverna - Tartu | B60: =200*1.7 -> 340 | C60: Vahemaa 200km ja hind 1.7€/km | D60: =+B60/$I$49 -> 0.0025022447 | E60: =+B60/$B$70 -> 0.00068554648 | F60: =+D60*$E$53 -> 367.16937
A61: Asfalttikallio OY | B61: =+I49*1.82 -> 247297.96 | C61: 1.82€/m2 | D61: =+B61/$I$49 -> 1.82 | E61: =+B61/$B$70 -> 0.49863014 | F61: =+D61*$E$53 -> 267059.52
A62: Majutus | B62: =10*50*I50 -> 5000 | C62: 10 inimest ja 50€/öö | D62: =+B62/$I$49 -> 0.036797716 | E62: =+B62/$B$70 -> 0.010081566 | F62: =+D62*$E$53 -> 5399.5496
A63: Töömees | B63: =20*14*I50 -> 2800 | C63: 10 ööd ja 14h/tööpäev | D63: =+B63/$I$49 -> 0.020606721 | E63: =+B63/$B$70 -> 0.0056456769 | F63: =+D63*$E$53 -> 3023.7478
A64: Töölise/kütuse transport | B64: =50*I50 -> 500 | C64: 10 tööpäeva | D64: =+B64/$I$49 -> 0.0036797716 | E64: =+B64/$B$70 -> 0.0010081566 | F64: =+D64*$E$53 -> 539.95496 | H64: m2 | I64: Vedu pärast kütuste hinna tõusu (€) | J64: m2 | K64: Vedu pärast kütuste hinna tõusu (€) | L64: Veo kallinemine, €
A65: Asfaldi vedu | B65: =49*10*4*I50 -> 19600 | C65: 10 ööd, 49€/h, 4tk ja 10h | D65: =+B65/$I$49 -> 0.14424705 | E65: =+B65/$B$70 -> 0.039519738 | F65: =+D65*$E$53 -> 21166.234 | H65: 135878 | I65: =54*10*4*10 -> 21600 | J65: 146736 | K65: =+I65*J65/H65 -> 23326.054 | L65: =+K65-F65 -> 2159.8198
A66: Soolokallur | B66: =40*10*I50 -> 4000 | C66: 10 tööpäeva ja 10h/päev | D66: =+B66/$I$49 -> 0.029438172 | E66: =+B66/$B$70 -> 0.0080652527 | F66: =+D66*$E$53 -> 4319.6397
A67: Soolokallur | B67: =40*10*I50 -> 4000 | C67: 10 tööpäeva ja 10h/päev | D67: =+B67/$I$49 -> 0.029438172 | E67: =+B67/$B$70 -> 0.0080652527 | F67: =+D67*$E$53 -> 4319.6397
A68: Minilaadur | B68: =I50*14*8 -> 1120 | C68: 10 tööpäeva ja 8h/päev | D68: =+B68/$I$49 -> 0.0082426883 | E68: =+B68/$B$70 -> 0.0022582708 | F68: =+D68*$E$53 -> 1209.4991
A69: Muud kulud | B69: =(495954.7/135878-SUM(B57:B68)/I49)*135878 -> 2526.302 | C69: BORNIT vuukide töötlemiseks ja töö teostamine, valve | D69: =+B69/$I$49 -> 0.018592429 | E69: =+B69/$B$70 -> 0.005093816 | F69: =+D69*$E$53 -> 2728.1786
A70: Summa | B70: =+SUM(B57:B69) -> 495954.7 | D70: =+SUM(D57:D69) -> 3.65 | E70: €/m2 | F70: =+SUM(F57:F69) -> 535586.4
A72: Vedelgaas
B73: Tarnija | C73: Vedelgaas OÜ | D73: Nädala lõikes vastavalt saatelehtedele ja kehtivale gaasi hinnale (arved, saatelehed)
B74: Pakkumises arvestatud | C74: Vedelgaas OÜ
E75: Pakkumise koostamise ajal
A76: Objekt | B76: Makseartikli nimetus | C76: Remixi maht kokku, m2 | D76: Vedelgaasi kogus arvutuslik, t | E76: Vedelgaasi hind, €/t | F76: Maksumus kokku, €
A77: Objekt 1 - T2 km 125.687-129.831 | B77: REMIX meetod, SMA 16 | C77: 46429.8 | D77: =+C77*0.00085 -> 39.46533 | E77: 650 | F77: =+ROUND(D77*E77,2) -> 25652.46 | G77: Lisa 7 Vedelgaas HP.msg
A78: Objekt 2 - T2 km 215.446-222.746 | B78: REMIX meetod, AC 16 surf | C78: 56878 | D78: =+C78*0.00075 -> 42.6585 | E78: 650 | F78: =+ROUND(D78*E78,2) -> 27728.03 | G78: Lisa 7 Vedelgaas HP.msg
A79: Objekt 3 - T3 km 155.421-174.493 | B79: REMIX meetod, AC 16 surf | C79: 146736 | D79: =+C79*0.00075 -> 110.052 | E79: 650 | F79: =+ROUND(D79*E79,2) -> 71533.8 | G79: Lisa 7 Vedelgaas HP.msg
D80: =+D77+D78+D79 -> 192.17583 | F80: =+F77+F78+F79 -> 124914.29
C81: Tööde teostamise ajal
A82: Tankimise kuupäev | B82: Kogus, t | C82: Hind, €/t | D82: Summa, €
A83: 46182 | B83: 11.53 | C83: 826 | D83: =+B83*C83 -> 9523.78 | E83: Lisa 8 Vedelgaas_OÜ_263710 (09.06.26).pdf
A84: 46183 | B84: 11.858 | C84: 826 | D84: =+B84*C84 -> 9794.708 | E84: Lisa 9 Vedelgaas_OÜ_263715 (10.06.26).pdf
A85: 46184 | B85: 12.1 | C85: 826 | D85: =+B85*C85 -> 9994.6 | E85: Lisa 10 Vedelgaas_OÜ_263730 (11.06.26).pdf
A86: 46186 | B86: 9.522 | C86: 826 | D86: =+B86*C86 -> 7865.172 | E86: Lisa 11 Vedelgaas_OÜ_263740 (13.06.26).pdf
A87: 46190 | B87: 11.944 | C87: 826 | D87: =+B87*C87 -> 9865.744 | E87: Lisa 12 Vedelgaas_OÜ_263761 (17.06.26).pdf
A88: 46202 | B88: 9.7 | C88: 800 | D88: =+B88*C88 -> 7760 | E88: Lisa 13 Vedelgaas_OÜ_264120 (29.06.26).pdf
A89: 46203 | B89: 11.677 | C89: 800 | D89: =+B89*C89 -> 9341.6 | E89: Lisa 14 Vedelgaas_OÜ_264124 (30.06.26).pdf
A90: 46204 | B90: 10.02 | C90: 800 | D90: =+B90*C90 -> 8016 | E90: Lisa 15 Vedelgaas_OÜ_264138 (01.07.26).pdf
A91: 46206 | B91: 14.348 | C91: 800 | D91: =+B91*C91 -> 11478.4 | E91: Lisa 16 Vedelgaas_OÜ_264150 (03.07.26).pdf
A92: 46210 | B92: 10 | C92: 800 | D92: =+B92*C92 -> 8000 | E92: Lisa 17 Vedelgaas_OÜ_264188 (07.07.26).pdf
A93: 46211 | B93: 10.3 | C93: 800 | D93: =+B93*C93 -> 8240 | E93: Lisa 18 Vedelgaas_OÜ_264194 (08.07.26).pdf
A94: 46217 | B94: 13.54 | C94: 801 | D94: =+B94*C94 -> 10845.54 | E94: Lisa 19 Vedelgaas_OÜ_264269 (14.07.26).pdf
... A98: 46224 | B98: 8.2 | C98: 827 | D98: =+B98*C98 -> 6781.4 | E98: Lisa 23 Vedelgaas_OÜ_264375 (21.07.26).pdf
A99: 22.07.2026 hommik | B99: 9.5 | C99: 827 | D99: =+B99*C99 -> 7856.5 | E99: Lisa 24 Vedelgaas_OÜ_264388 (22.07.26H).pdf
A100: 22.07.2026 õhtu | B100: 6.288 | C100: 827 | D100: =+B100*C100 -> 5200.176 | E100: Lisa 25 Vedelgaas_OÜ_264393 (22.07.26Õ).pdf
A101: Tarnitud kogus kokku, t | B101: =+SUM(B83:B100) -> 194.304 | D101: =+SUM(D83:D100) -> 157619
C102: Vedelgaasi kallinemine, € | D102: =+D101-F80 -> 32704.707
C103: Kallinemise osakaal pakkumise ajal kehtinud vedelgaasi maksumusest kokku, % | D103: =+D102/F80 -> 0.26181718
A105: Masinad
A106: Masinad | B106: Keskmine kütusekulu tunnis, l/h | C106: Töötunde kokku, h | D106: Kütusekulu 2026 kokku, l
A107: Remixer RX4500 | B107: 35 | C107: =18*10 -> 180 | D107: =+B107*C107 -> 6300
A108: Kuumuti (Scania/Volvo) | B108: 12 | C108: =18*10 -> 180 | D108: =+B108*C108 -> 2160
A109: Kuumuti (Scania/Volvo) | B109: 12 | C109: =18*10 -> 180 | D109: =+B109*C109 -> 2160
A110: Kuumuti (Scania/Volvo) | B110: 12 | C110: =18*10 -> 180 | D110: =+B110*C110 -> 2160
A111: Minilaadur Komatsu SK815 | B111: 4 | C111: =4*18 -> 72 | D111: =+B111*C111 -> 288
...

Sheet Peenramaterjali vedu
A1: Tööde teostamine: | B1: Juuni - august 2026
A2: PEENARDE KINDLUSTAMINE
A3: Objekt 2 - Riigitee nr 2 Tallinn-Tartu-Võru-Luhamaa km 215.446-222.746 remix
A4: Transport
A5: Materjal/mehhanism/ettevõte | B5: Maksumus kokku, € | C5: Märkused | D5: €/m2 | E5: Osakaal hinnast, % | F5: Maksumus, €
A6: 0/16 | B6: =14600*0.05*1.8*6.9 -> 9066.6 | D6: =+B6/14600 -> 0.621 | E6: =+B6/29054 -> 0.3120603 | F6: =+D6*14779 -> 9177.759
A7: Vedu | B7: =14600*0.05*1.8*67*0.09 -> 7923.42 | C7: Vedu 67km ja 0.09 €/tkm | D7: =+B7/14600 -> 0.5427 | E7: =+B7/29054 -> 0.27271357 | F7: =+D7*14779 -> 8020.5633
A8: Treiler | B8: =240*4*1.7 -> 1632 | C8: Vahemaa 240km (x 2) ja hind 1.7€/km | D8: =+B8/14600 -> 0.11178082 | E8: =+B8/29054 -> 0.056171267 | F8: =+D8*14779 -> 1652.0088
A9: Töömees | B9: =4*20*14 -> 1120 | C9: 4 tööpäeva ja 14h/tööpäev | D9: =+B9/14600 -> 0.076712329 | E9: =+B9/29054 -> 0.038548909 | F9: =+D9*14779 -> 1133.7315
A10: Auto | B10: =50*4 -> 200 | C10: 4 tööpäeva | D10: =+B10/14600 -> 0.01369863 | E10: =+B10/29054 -> 0.0068837337 | F10: =+D10*14779 -> 202.45205
A11: Laotamine | B11: =140*14*4 -> 7840 | C11: 140€/h ja 4 tööpäeva | D11: =+B11/14600 -> 0.5369863 | E11: =+B11/29054 -> 0.26984236 | F11: =+D11*14779 -> 7936.1205
A12: Parandustööd tähispostide paigaldamise järgselt | B12: =(29054/14600-SUM(B6:B11)/14600)*14600 -> 1271.98 | C12: Laotur ja töömees | D12: =+B12/14600 -> 0.087121918 | E12: =+B12/29054 -> 0.043779858 | F12: =+D12*14779 -> 1287.5748
A13: Summa | B13: =+SUM(B6:B12) -> 29054 | D13: =+SUM(B6:B12)/14600 -> 1.99 | E13: €/m2
A15: Artikli nr | C15: Makseartikli nimetus | D15: Mõõtühik | E15: Kokku teostatud tööde maht | F15: Üh.hind | G15: Summa
A16: 1 | C16: 2 | D16: 3 | E16: 4 | F16: 5 | G16: 6
A17: 44499 | C17: Peenarde kindlustamine , hkesk=5 cm | D17: m2 | E17: 14779 | F17: 1.99 | G17: =ROUND(E17*F17,2) -> 29410.21
D19: 2026 algus | E19: Pärast sõda
A20: Makseartikli nimetus | B20: Maht kokku, t | C20: Veomaa, km | D20: Puistematerjal EUR (t/km) | E20: Puistematerjal EUR (t/km) | F20: Puistematerjal EUR (t/km) vahe | G20: Veo kallinemine, €/t
A21: Peenarde kindlustamine, h=5cm | B21: 1205.95 | C21: 67 | D21: 0.09 | E21: 0.096 | F21: =+E21-D21 -> 0.006 | G21: =+ROUND(B21*C21*F21,2) -> 484.79 | H21: Lisa 2 Vedude hinnakiri 2026 Damper Trans OÜ.msg | I21: Lisa 3 Hinnapakkumine Damper Trans OÜ (21.05.2026).msg
F22: Kokku kallinemine objekt 2, € | G22: =+G21 -> 484.79
F23: Kallinemise osakaal pakkumise ajal kehtinud peenramaterjali veo maksumusest kokku % | G23: =+G22/(B21*C21*D21) -> 0.066666405
A24: Objekt 3 - Riigitee nr 3 Jõhvi-Tartu-Valga km 155.421-174.493 remix
A26: Materjal/mehhanism/ettevõte | B26: Maksumus kokku, € | C26: Märkused | D26: €/m2 | E26: Osakaal hinnast, % | F26: Maksumus, €
A27: 0/16 | B27: =38000*0.05*1.7*7 -> 22610 | D27: =+B27/38000 -> 0.595 | E27: =+F27/74462.7 -> 0.30512821 | F27: =+D27*38186 -> 22720.67
A28: Vedu | B28: =38000*0.05*1.7*90*0.083 -> 24128.1 | C28: Vedu 90 km ja 0.083 €/tkm | D28: =+B28/38000 -> 0.63495 | E28: =+F28/74462.7 -> 0.32561538 | F28: =+D28*38186 -> 24246.201
A29: Treiler | B29: =240*4*1.7 -> 1632 | C29: Vahemaa 240km (x 2) ja hind 1.7€/km | D29: =+B29/38000 -> 0.042947368 | E29: =+F29/74462.7 -> 0.022024291 | F29: =+D29*38186 -> 1639.9882
A30: Töömees | B30: =12*20*14 -> 3360 | C30: 12 tööpäeva ja 14h/tööpäev | D30: =+B30/38000 -> 0.088421053 | E30: =+F30/74462.7 -> 0.04534413 | F30: =+D30*38186 -> 3376.4463
A31: Auto | B31: =50*12 -> 600 | C31: 12 tööpäeva | D31: =+B31/38000 -> 0.015789474 | E31: =+F31/74462.7 -> 0.008097166 | F31: =+D31*38186 -> 602.93684
A32: Laotamine | B32: =140*12*12 -> 20160 | C32: 140€/h ja 4 tööpäeva | D32: =+B32/38000 -> 0.53052632 | E32: =+F32/74462.7 -> 0.27206478 | F32: =+D32*38186 -> 20258.678
A33: Parandustööd tähispostide paigaldamise järgselt | B33: =(74100/38000-SUM(B27:B32)/38000)*38000 -> 1609.9 | C33: Laotur ja töömees | D33: =+B33/38000 -> 0.042365789 | E33: =+F33/74462.7 -> 0.021726046 | F33: =+D33*38186 -> 1617.78
A34: Summa | B34: =+SUM(B27:B33) -> 74100 | D34: =+SUM(B27:B33)/38000 -> 1.95 | E34: €/m2
A36: Artikli nr | C36: Makseartikli nimetus | D36: Mõõtühik | E36: Kokku teostatud tööde maht | F36: Üh.hind | G36: Summa
A37: 1 | C37: 2 | D37: 3 | E37: 4 | F37: 5 | G37: 6
A38: 44501 | C38: Peenarde kindlustamine , hkesk=5 cm | D38: m2 | E38: 38186 | F38: 1.95 | G38: =ROUND(E38*F38,2) -> 74462.7
D40: 2026 algus | E40: Pärast sõda
A41: Makseartikli nimetus | B41: Maht kokku, t | C41: Veomaa, km | D41: Puistematerjal EUR (t/km) | E41: Puistematerjal EUR (t/km) | F41: Puistematerjal EUR (t/km) vahe | G41: Veo kallinemine, €/t
A42: Peenarde kindlustamine, h=5cm | B42: =2864.1+819.7 -> 3683.8 | C42: 90 | D42: 0.083 | E42: 0.092 | F42: =+E42-D42 -> 0.009 | G42: =+ROUND(B42*C42*F42,2) -> 2983.88 | H42: Lisa 2 Vedude hinnakiri 2026 Damper Trans OÜ.msg | I42: Lisa 3 Hinnapakkumine Damper Trans OÜ (21.05.2026).msg
F43: Kokku kallinemine objekt 3, € | G43: =G42 -> 2983.88
F44: Kallinemise osakaal pakkumise ajal kehtinud peenramaterjali veo maksumusest kokku % | G44: =+G43/(B42*C42*D42) -> 0.10843381

Sheet Asfalteerimine
A1: Tööde teostamine: | B1: Mai - juuli 2026
A2: ASFALTEERIMINE
A3: Transport | B3: TÖÖDE TEOSTAMISE AJAL
A4: Objekt | B4: Artikli nr | C4: Makseartikli nimetus | D4: Maht kokku tegelik, m2 | E4: Tööpäevade arv, tk
A5: 1 T2 km 125.687-129.831 | B5: 43002b*BHK | C5: AC 16 surf, h=6cm | D5: 3503 | E5: 2
A6: 2 T2 km 215.446-222.746 | B6: 43002b*BHK | C6: AC 16 surf, h=6cm | D6: 1694 | E6: 2
A7: 3 T3 km 155.421-174.493 | B7: 43002b*BHK | C7: AC 16 surf, h=5cm | D7: 1903 | E7: 1
B8: 43002c*BHK | C8: AC 16 surf, h=6cm | D8: 13186 | E8: 10
A9: 4 T3 km 162.837 Waide ristmiku ümberehitamine | B9: 43002a*BHK | C9: AC 16 surf, h=6cm | D9: 1833 | E9: 1
B10: 43002b*BHK | C10: AC 16 surf, h=5cm | D10: 1455 | E10: 1
B11: 43002c*BHK | C11: AC 8 surf, h=5cm | D11: 232 | E11: 0.5
B12: 43003a*BHK | C12: AC 32 base, h=7cm | D12: 64 | E12: 0.5
B13: 43003b*BHK | C13: AC 32 base, h=6cm | D13: 1270 | E13: 1
E14: =+SUM(E5:E13) -> 19
A15: PAKKUMISES ARVESTATUD | B15: 3 tööpäeva | C15: 4000 | D15: m2
A16: 1 T2 km 125.687-129.831 | B16: 43002b*BHK | C16: AC 16 surf, h=6cm | E16: ARVUTUSLIK, KUI HINNAD EI OLEKS TÕUSNUD | H16: KALLINEMINE
A17: Materjal/mehhanism/ettevõte | B17: Maksumus kokku, € | C17: €/m2 | D17: Osakaal hinnast, % | E17: Maksumus, €
A18: Töömehed ja tööjuht, € | B18: 9131.2872 | C18: =+B18/4000 -> 2.2828218 | D18: =B18/$B$23 -> 0.13218424 | E18: =+C18*$D$5 -> 7996.7248
A19: Masinad, € | B19: 9475.4113 | C19: =+B19/4000 -> 2.3688528 | D19: =B19/$B$23 -> 0.13716577 | E19: =+C19*$D$5 -> 8298.0915
A20: Muud (emulsioon, valve, treilervedu, jne), € | B20: =69080-B18-B19-B21-B22 -> 4833.7014 | C20: =+B20/4000 -> 1.2084254 | D20: =B20/$B$23 -> 0.069972517 | E20: =+C20*$D$5 -> 4233.114 | G20: m2 | H20: Vedu pärast kütuste hinna tõusu (€) | I20: m2 | J20: Vedu pärast kütuste hinna tõusu (€) | K20: Veo kallinemine, €
A21: Vedu, € | B21: =49*9*3*2 -> 2646 | C21: =+B21/4000 -> 0.6615 | D21: =B21/$B$23 -> 0.038303416 | E21: =+C21*$D$5 -> 2317.2345 | G21: 4000 | H21: =54*9*3*2 -> 2916 | I21: 3503 | J21: =+H21*I21/G21 -> 2553.687 | K21: =+J21-E21 -> 236.4525
A22: Segu, € | B22: =+C15*0.06*2.6*68.9 -> 42993.6 | C22: =69080/4000-SUM(C18:C21) -> 10.7484 | D22: =B22/$B$23 -> 0.62237406 | E22: =+C22*$D$5 -> 37651.645
A23: Summa | B23: =+SUM(B18:B22) -> 69080 | C23: =+SUM(C18:C22) -> 17.27 | D23: €/m2 | E23: =+SUM(E18:E22) -> 60496.81
A25: PAKKUMISES ARVESTATUD | B25: 3 tööpäeva | C25: 3700 | D25: m2
A26: 2 T2 km 215.446-222.746 | B26: 43002b*BHK | C26: AC 16 surf, h=6cm
A27: Materjal/mehhanism/ettevõte | B27: Maksumus kokku, € | C27: €/m2 | D27: Osakaal hinnast, % | E27: Maksumus, €
A28: Töömehed ja tööjuht, € | B28: =2926*3 -> 8778 | C28: =+B28/3700 -> 2.3724324 | D28: =B28/$B$33 -> 0.13963699 | E28: =+C28*$D$6 -> 4018.9005
A29: Masinad, € | B29: =2853.6*3 -> 8560.8 | C29: =+B29/3700 -> 2.3137297 | D29: =B29/$B$33 -> 0.13618186 | E29: =+C29*$D$6 -> 3919.4582
A30: Muud (emulsioon, valve, treilervedu, jne), € | B30: =62863-B28-B29-B31-B32 -> 3109.12 | C30: =+B30/3700 -> 0.8403027 | D30: =B30/$B$33 -> 0.049458664 | E30: =+C30*$D$6 -> 1423.4728 | G30: m2 | H30: Vedu pärast kütuste hinna tõusu (€) | I30: m2 | J30: Vedu pärast kütuste hinna tõusu (€) | K30: Veo kallinemine, €
A31: Vedu, € | B31: =49*9*3*2 -> 2646 | C31: =+B31/3700 -> 0.71513514 | D31: =B31/$B$33 -> 0.042091532 | E31: =+C31*$D$6 -> 1211.4389 | G31: 3700 | H31: =54*9*3*2 -> 2916 | I31: 1694 | J31: =+H31*I31/G31 -> 1335.0551 | K31: =+J31-E31 -> 123.61622
A32: Segu, € | B32: =3700*0.06*2.6*68.9 -> 39769.08 | C32: =62863/3700-SUM(C28:C31) -> 10.7484 | D32: =B32/$B$33 -> 0.63263096 | E32: =+C32*$D$6 -> 18207.79
A33: Summa | B33: =+SUM(B28:B32) -> 62863 | C33: =+SUM(C28:C32) -> 16.99 | D33: €/m2 | E33: =+SUM(E28:E32) -> 28781.06
A35: PAKKUMISES ARVESTATUD | B35: 1 tööpäev | C35: 2650 | D35: m2
A36: 3 T3 km 155.421-174.493 | B36: 43002b*BHK | C36: AC 16 surf, h=5cm
A37: Materjal/mehhanism/ettevõte | B37: Maksumus kokku, € | C37: €/m2 | D37: Osakaal hinnast, % | E37: Maksumus, €
A38: Töömehed ja tööjuht (€/päev) | B38: 2926 | C38: =+B38/2650 -> 1.1041509 | D38: =B38/$B$43 -> 0.091859479 | E38: =+C38*$D$7 -> 2101.1992
A39: Masinad (€/päev) | B39: 3394.1 | C39: =+B39/2650 -> 1.2807925 | D39: =B39/$B$43 -> 0.10655511 | E39: =+C39*$D$7 -> 2437.348
A40: Muud (€/päev) | B40: 940 | C40: =+B40/2650 -> 0.35471698 | D40: =B40/$B$43 -> 0.029510564 | E40: =+C40*$D$7 -> 675.02642 | G40: m2 | H40: Vedu pärast kütuste hinna tõusu (€) | I40: m2 | J40: Vedu pärast kütuste hinna tõusu (€) | K40: Veo kallinemine, €
A41: Vedu (€/päev) | B41: =4*10*49 -> 1960 | C41: =+B41/2650 -> 0.73962264 | D41: =B41/$B$43 -> 0.061532666 | E41: =+C41*$D$7 -> 1407.5019 | G41: 2650 | H41: =54*4*10 -> 2160 | I41: 1903 | J41: =+H41*I41/G41 -> 1551.1245 | K41: =+J41-E41 -> 143.62264
A42: Segu | B42: =+C42*2650 -> 22632.9 | C42: =31853/2650-SUM(C38:C41) -> 8.540717 | D42: =B42/$B$43 -> 0.71054218 | E42: =+C42*$D$7 -> 16252.984
A43: Summa | B43: =+SUM(B38:B42) -> 31853 | C43: =+SUM(C38:C42) -> 12.02 | D43: €/m2 | E43: =+SUM(E38:E42) -> 22874.06
A45: PAKKUMISES ARVESTATUD | B45: 8 tööpäev | C45: 11100 | D45: m2
A46: 3 T3 km 155.421-174.493 | B46: 43002c*BHK | C46: AC 16 surf, h=6cm
A47: Materjal/mehhanism/ettevõte | B47: Maksumus kokku, € | C47: €/m2 | D47: Osakaal hinnast, % | E47: Maksumus, €
A48: Töömehed ja tööjuht (€/päev) | B48: =2926*8 -> 23408 | C48: =+B48/11100 -> 2.1088288 | D48: =B48/$B$53 -> 0.12866558 | E48: =+C48*$D$8 -> 27807.017
A49: Masinad (€/päev) | B49: =3024.73*8 -> 24197.84 | C49: =+B49/11100 -> 2.1799856 | D49: =B49/$B$53 -> 0.13300705 | E49: =+C49*$D$8 -> 28745.29
A50: Muud (emulsioon, valve, treilervedu, jne), € | B50: =181929-B48-B49-B51-B52 -> 5607.92 | C50: =+B50/11100 -> 0.50521802 | D50: =B50/$B$53 -> 0.030824772 | E50: =+C50*$D$8 -> 6661.8048 | G50: m2 | H50: Vedu pärast kütuste hinna tõusu (€) | I50: m2 | J50: Vedu pärast kütuste hinna tõusu (€) | K50: Veo kallinemine, €
A51: Vedu (€/päev) | B51: =3*8*49*8 -> 9408 | C51: =+B51/11100 -> 0.84756757 | D51: =B51/$B$53 -> 0.051712481 | E51: =+C51*$D$8 -> 11176.026 | G51: 11100 | H51: =54*3*8*8 -> 10368 | I51: 13186 | J51: =+H51*I51/G51 -> 12316.437 | K51: =+J51-E51 -> 1140.4108
A52: Segu | B52: =11100*0.06*2.6*68.9 -> 119307.24 | C52: =181929/11100-SUM(C48:C51) -> 10.7484 | D52: =B52/$B$53 -> 0.65579012 | E52: =+C52*$D$8 -> 141728.4
A53: Summa | B53: =+SUM(B48:B52) -> 181929 | C53: =+SUM(C48:C52) -> 16.39 | D53: €/m2 | E53: =+SUM(E48:E52) -> 216118.54
A55: PAKKUMISES ARVESTATUD | B55: 1 tööpäev | C55: 1833 | D55: m2
A56: 4 T3 km 162.837 Waide ristmiku ümberehitamine | B56: 43002a*BHK | C56: AC 16 surf, h=6cm
A57: Materjal/mehhanism/ettevõte | B57: Maksumus kokku, € | C57: €/m2 | D57: Osakaal hinnast, % | E57: Maksumus, €
A58: Töömehed ja tööjuht (€/päev) | B58: =2926 -> 2926 | C58: =+B58/1833 -> 1.5962902 | D58: =B58/$B$63 -> 0.10325293 | E58: =+C58*$D$9 -> 2926
A59: Masinad (€/päev) | B59: =3419.97 -> 3419.97 | C59: =+B59/1833 -> 1.8657774 | D59: =B59/$B$63 -> 0.12068418 | E59: =+C59*$D$9 -> 3419.97
A60: Muud (€/päev) | B60: 733.4 | C60: =+B60/1833 -> 0.40010911 | D60: =B60/$B$63 -> 0.025880279 | E60: =+C60*$D$9 -> 733.4 | G60: m2 | H60: Vedu pärast kütuste hinna tõusu (€) | I60: m2 | J60: Vedu pärast kütuste hinna tõusu (€) | K60: Veo kallinemine, €
A61: Vedu (€/päev) | B61: =3*10*49 -> 1470 | C61: =+B61/1833 -> 0.80196399 | D61: =B61/$B$63 -> 0.05187348 | E61: =+C61*$D$9 -> 1470 | G61: 1833 | H61: =3*10*54 -> 1620 | I61: 1833 | J61: =+H61*I61/G61 -> 1620 | K61: =+J61-E61 -> 150
A62: Segu | B62: =+C62*1833 -> 19788.81 | C62: =28338.18/1833-SUM(C58:C61) -> 10.795859 | D62: =B62/$B$63 -> 0.69830914 | E62: =+C62*$D$9 -> 19788.81
A63: Summa | B63: =+SUM(B58:B62) -> 28338.18 | C63: =+SUM(C58:C62) -> 15.46 | D63: €/m2 | E63: =+SUM(E58:E62) -> 28338.18
A65: PAKKUMISES ARVESTATUD | B65: 1 tööpäev | C65: 1455 | D65: m2
A66: 4 T3 km 162.837 Waide ristmiku ümberehitamine | B66: 43002b*BHK | C66: AC 16 surf, h=5cm
A67: Materjal/mehhanism/ettevõte | B67: Maksumus kokku, € | C67: €/m2 | D67: Osakaal hinnast, % | E67: Maksumus, €
A68: Töömehed ja tööjuht (€/päev) | B68: =2926 -> 2926 | C68: =+B68/1455 -> 2.0109966 | D68: =B68/$B$73 -> 0.13965254 | E68: =+C68*$D$10 -> 2926
A69: Masinad (€/päev) | B69: 3024.8 | C69: =+B69/1455 -> 2.0789003 | D69: =B69/$B$73 -> 0.14436808 | E69: =+C69*$D$10 -> 3024.8
A70: Muud (€/päev) | B70: 689 | C70: =+B70/1455 -> 0.47353952 | D70: =B70/$B$73 -> 0.032884689 | E70: =+C70*$D$10 -> 689 | G70: m2 | H70: Vedu pärast kütuste hinna tõusu (€) | I70: m2 | J70: Vedu pärast kütuste hinna tõusu (€) | K70: Veo kallinemine, €
A71: Vedu (€/päev) | B71: =3*10*49 -> 1470 | C71: =+B71/1455 -> 1.0103093 | D71: =B71/$B$73 -> 0.070160367 | E71: =+C71*$D$10 -> 1470 | G71: 1455 | H71: =3*10*54 -> 1620 | I71: 1455 | J71: =+H71*I71/G71 -> 1620 | K71: =+J71-E71 -> 150
A72: Segu | B72: =+C72*1455 -> 12842.2 | C72: =20952/1455-SUM(C68:C71) -> 8.8262543 | D72: =B72/$B$73 -> 0.61293433 | E72: =+C72*$D$10 -> 12842.2
A73: Summa | B73: =+SUM(B68:B72) -> 20952 | C73: =+SUM(C68:C72) -> 14.4 | D73: €/m2 | E73: =+SUM(E68:E72) -> 20952
A75: PAKKUMISES ARVESTATUD | B75: 1 tööpäev | C75: 232 | D75: m2
A76: 4 T3 km 162.837 Waide ristmiku ümberehitamine | B76: 43002c*BHK | C76: AC 8 surf, h=5cm
A77: Materjal/mehhanism/ettevõte | B77: Maksumus kokku, € | C77: €/m2 | D77: Osakaal hinnast, % | E77: Maksumus, €
A78: Töömehed ja tööjuht (€/päev) | B78: =2926*0.5 -> 1463 | C78: =+B78/232 -> 6.3060345 | D78: =B78/$B$83 -> 0.30000164 | E78: =+C78*$D$11 -> 1463
A79: Masinad (€/päev) | B79: =2663.8*0.5 -> 1331.9 | C79: =+B79/232 -> 5.7409483 | D79: =B79/$B$83 -> 0.27311838 | E79: =+C79*$D$11 -> 1331.9
A80: Muud (€/päev) | B80: =505.3*0.5 -> 252.65 | C80: =+B80/232 -> 1.0890086 | D80: =B80/$B$83 -> 0.051808212 | E80: =+C80*$D$11 -> 252.65 | G80: m2 | H80: Vedu pärast kütuste hinna tõusu (€) | I80: m2 | J80: Vedu pärast kütuste hinna tõusu (€) | K80: Veo kallinemine, €
A81: Vedu (€/päev) | B81: =49*12*0.5 -> 294 | C81: =+B81/232 -> 1.2672414 | D81: =B81/$B$83 -> 0.060287411 | E81: =+C81*$D$11 -> 294 | G81: 232 | H81: =54*12*0.5 -> 324 | I81: 232 | J81: =+H81*I81/G81 -> 324 | K81: =+J81-E81 -> 30
A82: Segu | B82: =+C82*232 -> 1535.09 | C82: =4876.64/232-SUM(C78:C81) -> 6.6167672 | D82: =B82/$B$83 -> 0.31478436 | E82: =+C82*$D$11 -> 1535.09
A83: Summa | B83: =+SUM(B78:B82) -> 4876.64 | C83: =+SUM(C78:C82) -> 21.02 | D83: €/m2 | E83: =+SUM(E78:E82) -> 4876.64
A85: PAKKUMISES ARVESTATUD | B85: 1 tööpäev | C85: 250 | D85: m2
A86: 4 T3 km 162.837 Waide ristmiku ümberehitamine | B86: 43003a*BHK | C86: AC 32 base, h=7cm
A87: Materjal/mehhanism/ettevõte | B87: Maksumus kokku, € | C87: €/m2 | D87: Osakaal hinnast, % | E87: Maksumus, €
A88: Töömehed ja tööjuht (€/päev) | B88: =2926*0.5 -> 1463 | C88: =+B88/250 -> 5.852 | D88: =B88/$B$93 -> 0.28870252 | E88: =+C88*$D$12 -> 374.528
A89: Masinad (€/päev) | B89: =2664.8*0.5 -> 1332.4 | C89: =+B89/250 -> 5.3296 | D89: =B89/$B$93 -> 0.26293044 | E89: =+C89*$D$12 -> 341.0944
A90: Muud (€/päev) | B90: =413.5*0.5 -> 206.75 | C90: =+B90/250 -> 0.827 | D90: =B90/$B$93 -> 0.040799211 | E90: =+C90*$D$12 -> 52.928 | G90: m2 | H90: Vedu pärast kütuste hinna tõusu (€) | I90: m2 | J90: Vedu pärast kütuste hinna tõusu (€) | K90: Veo kallinemine, €
A91: Vedu (€/päev) | B91: =49*12*0.5 -> 294 | C91: =+B91/250 -> 1.176 | D91: =B91/$B$93 -> 0.058016774 | E91: =+C91*$D$12 -> 75.264 | G91: 250 | H91: =54*12*0.5 -> 324 | I91: 64 | J91: =+H91*I91/G91 -> 82.944 | K91: =+J91-E91 -> 7.68
A92: Segu | B92: =+C92*250 -> 1771.35 | C92: =5067.5/250-SUM(C88:C91) -> 7.0854 | D92: =B92/$B$93 -> 0.34955106 | E92: =+C92*$D$12 -> 453.4656
A93: Summa | B93: =+SUM(B88:B92) -> 5067.5 | C93: =+SUM(C88:C92) -> 20.27 | D93: €/m2 | E93: =+SUM(E88:E92) -> 1297.28
A95: PAKKUMISES ARVESTATUD | B95: 1 tööpäev | C95: 1270 | D95: m2
A96: 4 T3 km 162.837 Waide ristmiku ümberehitamine | B96: 43003b*BHK | C96: AC 32 base, h=6cm
A97: Materjal/mehhanism/ettevõte | B97: Maksumus kokku, € | C97: €/m2 | D97: Osakaal hinnast, % | E97: Maksumus, €
A98: Töömehed ja tööjuht (€/päev) | B98: =2926 -> 2926 | C98: =+B98/1270 -> 2.303937 | D98: =B98/$B$103 -> 0.19263687 | E98: =+C98*$D$13 -> 2926
A99: Masinad (€/päev) | B99: =2925.79 -> 2925.79 | C99: =+B99/1270 -> 2.3037717 | D99: =B99/$B$103 -> 0.19262305 | E99: =+C99*$D$13 -> 2925.79
A100: Muud (€/päev) | B100: =459.7 -> 459.7 | C100: =+B100/1270 -> 0.3619685 | D100: =B100/$B$103 -> 0.030264925 | E100: =+C100*$D$13 -> 459.7 | G100: m2 | H100: Vedu pärast kütuste hinna tõusu (€) | I100: m2 | J100: Vedu pärast kütuste hinna tõusu (€) | K100: Veo kallinemine, €
A101: Vedu (€/päev) | B101: =49*12*3 -> 1764 | C101: =+B101/1270 -> 1.3889764 | D101: =B101/$B$103 -> 0.11613515 | E101: =+C101*$D$13 -> 1764 | G101: 1270 | H101: =54*12*3 -> 1944 | I101: 1270 | J101: =+H101*I101/G101 -> 1944 | K101: =+J101-E101 -> 180
A102: Segu | B102: =+C102*1270 -> 7113.71 | C102: =15189.2/1270-SUM(C98:C101) -> 5.6013465 | D102: =B102/$B$103 -> 0.46834 | E102: =+C102*$D$13 -> 7113.71
A103: Summa | B103: =+SUM(B98:B102) -> 15189.2 | C103: =+SUM(C98:C102) -> 11.96 | D103: €/m2 | E103: =+SUM(E98:E102) -> 15189.2
A105: Masinad | B105: Keskmine kütusekulu tunnis, l/h | C105: Töötunde kokku, h | D105: Kütusekulu 2026 kokku, l
A106: Asfaldilaotur Vögele 1800-3 | B106: 14 | C106: =19*9 -> 171 | D106: =+B106*C106 -> 2394
A107: Teerull Hamm HD 14VV | B107: 9 | C107: =19*9 -> 171 | D107: =+B107*C107 -> 1539
A108: Teerull HD 80i VO-s | B108: 10 | C108: =19*9 -> 171 | D108: =+B108*C108 -> 1710
A109: Minilaadur Komatsu SK815 | B109: 4 | C109: =19*4 -> 76 | D109: =+B109*C109 -> 304
...

Sheet Freesimine
A1: Tööde teostamine: | B1: Mai - juuli 2026
A2: FREESIMINE
A3: Transport | B3: TÖÖDE TEOSTAMISE AJAL
A4: Objekt | B4: Artikli nr | C4: Makseartikli nimetus | D4: Maht kokku tegelik, m2 | E4: Tööpäevade arv, tk
A5: 1 T2 km 125.687-129.831 | B5: 40101 | C5: Katte freesimine, h=6cm (defektid) | D5: 3503 | E5: 2
A6: 2 T2 km 215.446-222.746 | B6: 40101 | C6: Katte freesimine, h=6cm (defektid) | D6: 1694 | E6: 2
A7: 3 T3 km 155.421-174.493 | B7: 40101a | C7: Katte freesimine, h=6cm (defektid) | D7: 7274 | E7: 6
B8: 40101b | C8: Katte freesimine, h=6cm (telje mõrad) | D8: 5912 | E8: 4
B9: 40101c | C9: Vapramäe sild, h=5cm | D9: 1903 | E9: 1
A10: 4 T3 km 162.837 Waide ristmiku ümberehitamine | B10: 40101a | C10: Olemasoleva katendi freesimine, h=13cm | D10: 1064 | E10: 0.5
B11: 40101b | C11: Olemasoleva katendi freesimine, h=11cm | D11: 2278 | E11: 0.5
B12: 40102a | C12: Olemasoleva katendi tasandusfreesimine, h=6cm | D12: 1786 | E12: 0.5
B13: 40102b | C13: Olemasoleva katendi tasandusfreesimine, h=5cm | D13: 192 | E13: 0.1
E14: =+SUM(E5:E13) -> 16.6
A16: PAKKUMISES ARVESTATUD | B16: 3 tööpäeva | C16: 4000 | D16: m2
A17: 1 T2 km 125.687-129.831 | B17: 40101 | C17: Katte freesimine, h=6cm (defektid) | E17: ARVUTUSLIK, KUI HINNAD EI OLEKS TÕUSNUD | H17: KALLINEMINE
A18: Materjal/mehhanism/ettevõte | B18: Maksumus kokku, € | C18: €/m2 | D18: Osakaal hinnast, % | E18: Maksumus, €
A19: Töömehed ja tööjuht (€/päev) | B19: =+(4*20*12+350)*3 -> 3930 | C19: =+B19/4000 -> 0.9825 | D19: =B19/$B$22 -> 0.28071429 | E19: =+C19*$D$5 -> 3441.6975
A20: Masinad (€/päev) | B20: =14000-B19-B21 -> 7250 | C20: =+B20/4000 -> 1.8125 | D20: =B20/$B$22 -> 0.51785714 | E20: =+C20*$D$5 -> 6349.1875 | G20: m2 | H20: Vedu pärast kütuste hinna tõusu (€) | I20: m2 | J20: Vedu pärast kütuste hinna tõusu (€) | K20: Veo kallinemine, €
A21: Vedu (€/päev) | B21: =2*10*47*3 -> 2820 | C21: =+B21/4000 -> 0.705 | D21: =B21/$B$22 -> 0.20142857 | E21: =+C21*$D$5 -> 2469.615 | G21: 4000 | H21: =2*10*51*3 -> 3060 | I21: 3503 | J21: =+H21*I21/G21 -> 2679.795 | K21: =+J21-E21 -> 210.18
A22: Summa | B22: =+SUM(B19:B21) -> 14000 | C22: =+SUM(C19:C21) -> 3.5 | D22: €/m2 | E22: =+SUM(E19:E21) -> 12260.5
A24: PAKKUMISES ARVESTATUD | B24: 3 tööpäeva | C24: 3700 | D24: m2
A25: 2 T2 km 215.446-222.746 | B25: 40101 | C25: Katte freesimine, h=6cm (defektid)
A26: Materjal/mehhanism/ettevõte | B26: Maksumus kokku, € | C26: €/m2 | D26: Osakaal hinnast, % | E26: Maksumus, €
A27: Töömehed ja tööjuht (€/päev) | B27: =+(4*20*12+350)*3 -> 3930 | C27: =+B27/3700 -> 1.0621622 | D27: =B27/$B$30 -> 0.28400058 | E27: =+C27*$D$6 -> 1799.3027
A28: Masinad (€/päev) | B28: =13838-B27-B29 -> 7088 | C28: =+B28/3700 -> 1.9156757 | D28: =B28/$B$30 -> 0.51221275 | E28: =+C28*$D$6 -> 3245.1546 | G28: m2 | H28: Vedu pärast kütuste hinna tõusu (€) | I28: m2 | J28: Vedu pärast kütuste hinna tõusu (€) | K28: Veo kallinemine, €
A29: Vedu (€/päev) | B29: =2*10*47*3 -> 2820 | C29: =+B29/3700 -> 0.76216216 | D29: =B29/$B$30 -> 0.20378667 | E29: =+C29*$D$6 -> 1291.1027 | G29: 3700 | H29: =2*10*51*3 -> 3060 | I29: 1694 | J29: =+H29*I29/G29 -> 1400.9838 | K29: =+J29-E29 -> 109.88108
A30: Summa | B30: =+SUM(B27:B29) -> 13838 | C30: =+SUM(C27:C29) -> 3.74 | D30: €/m2 | E30: =+SUM(E27:E29) -> 6335.56
A32: PAKKUMISES ARVESTATUD | B32: 4 tööpäeva | C32: 6100 | D32: m2
A33: 3 T3 km 155.421-174.493 | B33: 40101a | C33: Katte freesimine, h=6cm (defektid)
A34: Materjal/mehhanism/ettevõte | B34: Maksumus kokku, € | C34: €/m2 | D34: Osakaal hinnast, % | E34: Maksumus, €
A35: Töömehed ja tööjuht (€/päev) | B35: =+(4*20*12+350)*4 -> 5240 | C35: =+B35/6100 -> 0.85901639 | D35: =B35/$B$38 -> 0.28729645 | E35: =+C35*$D$7 -> 6248.4852
A36: Masinad (€/päev) | B36: =18239-B35-B37 -> 9239 | C36: =+B36/6100 -> 1.5145902 | D36: =B36/$B$38 -> 0.50655189 | E36: =+C36*$D$7 -> 11017.129 | G36: m2 | H36: Vedu pärast kütuste hinna tõusu (€) | I36: m2 | J36: Vedu pärast kütuste hinna tõusu (€) | K36: Veo kallinemine, €
A37: Vedu (€/päev) | B37: =2*10*47*4 -> 3760 | C37: =+B37/6100 -> 0.61639344 | D37: =B37/$B$38 -> 0.20615165 | E37: =+C37*$D$7 -> 4483.6459 | G37: 6100 | H37: =2*10*51*4 -> 4080 | I37: 7274 | J37: =+H37*I37/G37 -> 4865.2328 | K37: =+J37-E37 -> 381.58689
A38: Summa | B38: =+SUM(B35:B37) -> 18239 | C38: =+SUM(C35:C37) -> 2.99 | D38: €/m2 | E38: =+SUM(E35:E37) -> 21749.26
A40: PAKKUMISES ARVESTATUD | B40: 4 tööpäeva | C40: 5000 | D40: m2
A41: 3 T3 km 155.421-174.493 | B41: 40101b | C41: Katte freesimine, h=6cm (defektid)
A42: Materjal/mehhanism/ettevõte | B42: Maksumus kokku, € | C42: €/m2 | D42: Osakaal hinnast, % | E42: Maksumus, €
A43: Töömehed ja tööjuht (€/päev) | B43: =+(4*20*12+350)*4 -> 5240 | C43: =+B43/5000 -> 1.048 | D43: =B43/$B$46 -> 0.28555858 | E43: =+C43*$D$8 -> 6195.776
A44: Masinad (€/päev) | B44: =18350-B43-B45 -> 9350 | C44: =+B44/5000 -> 1.87 | D44: =B44/$B$46 -> 0.50953678 | E44: =+C44*$D$8 -> 11055.44 | G44: m2 | H44: Vedu pärast kütuste hinna tõusu (€) | I44: m2 | J44: Vedu pärast kütuste hinna tõusu (€) | K44: Veo kallinemine, €
A45: Vedu (€/päev) | B45: =2*10*47*4 -> 3760 | C45: =+B45/5000 -> 0.752 | D45: =B45/$B$46 -> 0.20490463 | E45: =+C45*$D$8 -> 4445.824 | G45: 5000 | H45: =2*10*51*4 -> 4080 | I45: 5912 | J45: =+H45*I45/G45 -> 4824.192 | K45: =+J45-E45 -> 378.368
A46: Summa | B46: =+SUM(B43:B45) -> 18350 | C46: =+SUM(C43:C45) -> 3.67 | D46: €/m2 | E46: =+SUM(E43:E45) -> 21697.04
A48: PAKKUMISES ARVESTATUD | B48: 1 tööpäev | C48: 2650 | D48: m2
A49: 3 T3 km 155.421-174.493 | B49: 40101c | C49: Vapramäe sild, h=5cm
A50: Materjal/mehhanism/ettevõte | B50: Maksumus kokku, € | C50: €/m2 | D50: Osakaal hinnast, % | E50: Maksumus, €
A51: Töömehed ja tööjuht (€/päev) | B51: =+(4*20*12+350) -> 1310 | C51: =+B51/2650 -> 0.49433962 | D51: =B51/$B$54 -> 0.25746855 | E51: =+C51*$D$9 -> 940.7283
A52: Masinad (€/päev) | B52: =5088-B51-B53 -> 2838 | C52: =+B52/2650 -> 1.0709434 | D52: =B52/$B$54 -> 0.55778302 | E52: =+C52*$D$9 -> 2038.0053 | G52: m2 | H52: Vedu pärast kütuste hinna tõusu (€) | I52: m2 | J52: Vedu pärast kütuste hinna tõusu (€) | K52: Veo kallinemine, €
A53: Vedu (€/päev) | B53: =2*10*47 -> 940 | C53: =+B53/2650 -> 0.35471698 | D53: =B53/$B$54 -> 0.18474843 | E53: =+C53*$D$9 -> 675.02642 | G53: 2650 | H53: =2*10*51 -> 1020 | I53: 1903 | J53: =+H53*I53/G53 -> 732.47547 | K53: =+J53-E53 -> 57.449057
A54: Summa | B54: =+SUM(B51:B53) -> 5088 | C54: =+SUM(C51:C53) -> 1.92 | D54: €/m2 | E54: =+SUM(E51:E53) -> 3653.76
A56: PAKKUMISES ARVESTATUD | B56: 0.5 tööpäeva | C56: 1291 | D56: m2
A57: 4 T3 km 162.837 Waide ristmiku ümberehitamine | B57: 40101a | C57: Olemasoleva katendi freesimine, h=13cm
A58: Materjal/mehhanism/ettevõte | B58: Maksumus kokku, € | C58: €/m2 | D58: Osakaal hinnast, % | E58: Maksumus, €
A59: Töömehed ja tööjuht (€/päev) | B59: =+(4*20*12+350)*0.5 -> 655 | C59: =+B59/1291 -> 0.50735864 | D59: =B59/$B$62 -> 0.29670096 | E59: =+C59*$D$10 -> 539.82959
A60: Masinad (€/päev) | B60: =2207.61-B59-B61 -> 1082.61 | C60: =+B60/1291 -> 0.83858249 | D60: =B60/$B$62 -> 0.49039912 | E60: =+C60*$D$10 -> 892.25177 | G60: m2 | H60: Vedu pärast kütuste hinna tõusu (€) | I60: m2 | J60: Vedu pärast kütuste hinna tõusu (€) | K60: Veo kallinemine, €
A61: Vedu (€/päev) | B61: =2*10*47*0.5 -> 470 | C61: =+B61/1291 -> 0.36405887 | D61: =B61/$B$62 -> 0.21289992 | E61: =+C61*$D$10 -> 387.35864 | G61: 1291 | H61: =2*10*51*0.5 -> 510 | I61: 1064 | J61: =+H61*I61/G61 -> 420.32533 | K61: =+J61-E61 -> 32.966692
A62: Summa | B62: =+SUM(B59:B61) -> 2207.61 | C62: =+SUM(C59:C61) -> 1.71 | D62: €/m2 | E62: =+SUM(E59:E61) -> 1819.44
A64: PAKKUMISES ARVESTATUD | B64: 0.5 tööpäeva | C64: 2360 | D64: m2
A65: 4 T3 km 162.837 Waide ristmiku ümberehitamine | B65: 40101b | C65: Olemasoleva katendi freesimine, h=11cm
A66: Materjal/mehhanism/ettevõte | B66: Maksumus kokku, € | C66: €/m2 | D66: Osakaal hinnast, % | E66: Maksumus, €
A67: Töömehed ja tööjuht (€/päev) | B67: =+(4*20*12+350)*0.5 -> 655 | C67: =+B67/2360 -> 0.27754237 | D67: =B67/$B$70 -> 0.19967077 | E67: =+C67*$D$11 -> 632.24153
A68: Masinad (€/päev) | B68: =3280.4-B67-B69 -> 2155.4 | C68: =+B68/2360 -> 0.91330508 | D68: =B68/$B$70 -> 0.65705402 | E68: =+C68*$D$11 -> 2080.509 | G68: m2 | H68: Vedu pärast kütuste hinna tõusu (€) | I68: m2 | J68: Vedu pärast kütuste hinna tõusu (€) | K68: Veo kallinemine, €
A69: Vedu (€/päev) | B69: =2*10*47*0.5 -> 470 | C69: =+B69/2360 -> 0.19915254 | D69: =B69/$B$70 -> 0.14327521 | E69: =+C69*$D$11 -> 453.66949 | G69: 2360 | H69: =2*10*51*0.5 -> 510 | I69: 2278 | J69: =+H69*I69/G69 -> 492.27966 | K69: =+J69-E69 -> 38.610169
A70: Summa | B70: =+SUM(B67:B69) -> 3280.4 | C70: =+SUM(C67:C69) -> 1.39 | D70: €/m2 | E70: =+SUM(E67:E69) -> 3166.42
A72: PAKKUMISES ARVESTATUD | B72: 0.5 tööpäeva | C72: 1584 | D72: m2
A73: 4 T3 km 162.837 Waide ristmiku ümberehitamine | B73: 40102a | C73: Olemasoleva katendi tasandusfreesimine, h=6cm
A74: Materjal/mehhanism/ettevõte | B74: Maksumus kokku, € | C74: €/m2 | D74: Osakaal hinnast, % | E74: Maksumus, €
A75: Töömehed ja tööjuht (€/päev) | B75: =+(4*20*12+350)*0.5 -> 655 | C75: =+B75/1584 -> 0.4135101 | D75: =B75/$B$78 -> 0.30858963 | E75: =+C75*$D$12 -> 738.52904
A76: Masinad (€/päev) | B76: =2122.56-B75-B77 -> 997.56 | C76: =+B76/1584 -> 0.62977273 | D76: =B76/$B$78 -> 0.46997965 | E76: =+C76*$D$12 -> 1124.7741 | G76: m2 | H76: Vedu pärast kütuste hinna tõusu (€) | I76: m2 | J76: Vedu pärast kütuste hinna tõusu (€) | K76: Veo kallinemine, €
A77: Vedu (€/päev) | B77: =2*10*47*0.5 -> 470 | C77: =+B77/1584 -> 0.29671717 | D77: =B77/$B$78 -> 0.22143073 | E77: =+C77*$D$12 -> 529.93687 | G77: 1584 | H77: =2*10*51*0.5 -> 510 | I77: 1786 | J77: =+H77*I77/G77 -> 575.03788 | K77: =+J77-E77 -> 45.10101
A78: Summa | B78: =+SUM(B75:B77) -> 2122.56 | C78: =+SUM(C75:C77) -> 1.34 | D78: €/m2 | E78: =+SUM(E75:E77) -> 2393.24
A80: PAKKUMISES ARVESTATUD | B80: 0.1 tööpäeva | C80: 189 | D80: m2
A81: 4 T3 km 162.837 Waide ristmiku ümberehitamine | B81: 40102b | C81: Olemasoleva katendi tasandusfreesimine, h=5cm
A82: Materjal/mehhanism/ettevõte | B82: Maksumus kokku, € | C82: €/m2 | D82: Osakaal hinnast, % | E82: Maksumus, €
A83: Töömehed ja tööjuht (€/päev) | B83: =+(4*20*12+350)*0.1 -> 131 | C83: =+B83/189 -> 0.69312169 | D83: =B83/$B$86 -> 0.26865182 | E83: =+C83*$D$13 -> 133.07937
A84: Masinad (€/päev) | B84: =487.62-B83-B85 -> 262.62 | C84: =+B84/189 -> 1.3895238 | D84: =B84/$B$86 -> 0.53857512 | E84: =+C84*$D$13 -> 266.78857 | G84: m2 | H84: Vedu pärast kütuste hinna tõusu (€) | I84: m2 | J84: Vedu pärast kütuste hinna tõusu (€) | K84: Veo kallinemine, €
A85: Vedu (€/päev) | B85: =2*10*47*0.1 -> 94 | C85: =+B85/189 -> 0.4973545 | D85: =B85/$B$86 -> 0.19277306 | E85: =+C85*$D$13 -> 95.492063 | G85: 189 | H85: =2*10*51*0.1 -> 102 | I85: 192 | J85: =+H85*I85/G85 -> 103.61905 | K85: =+J85-E85 -> 8.1269841
A86: Summa | B86: =+SUM(B83:B85) -> 487.62 | C86: =+SUM(C83:C85) -> 2.58 | D86: €/m2 | E86: =+SUM(E83:E85) -> 495.36
B88: Keskmine kütusekulu tunnis, l/h | C88: Töötunde kokku, h | D88: Kütusekulu 2026 kokku, l
A89: Frees Wirtgen W210/W100CFi | B89: 45 | C89: =10*(E5+E6+E7+E8+E9+E10+E11+E12+E13) -> 166 | D89: =+B89*C89 -> 7470
A90: Veeauto Volvo FM 12 harjaga | B90: 16 | C90: =+(E5+E6+E7+E8+E9+E10+E11+E12+E13)*8 -> 132.8 | D90: =+B90*C90 -> 2124.8
A91: Minilaadur Komatsu SK815 | B91: 4 | C91: =+(E6+E7+E8+E9+E10+E11+E12+E13+E5)*8 -> 132.8 | D91: =+B91*C91 -> 531.2
C92: FREESIMINE KOKKU | D92: =+SUM(D89:D91) -> 10126
C93: Diisli hind pakkumise ajal, €/l | D93: 1.0468 | E93: Lisa 4 011232-25VL 14.11.2025 AS Terminal.pdf
C94: Pakkumise ajal kütuse maksumus kokku, € | D94: =+D93*D92 -> 10599.897
C95: Diisli hind tööde teostamise ajal, €/l | D95: =(1.3298*14.5+1.2629*2.5)/17 -> 1.3199618 | E95: Lisa 5 005386-26VL 27.05.2026 AS Terminal.pdf | F95: Lisa 6 Arve_NR_260352 16.06.2026 AS Go Oil.pdf
C96: Tööde teostamise ajal kütuse maksumus kokku, € | D96: =+D95*D94 -> 13991.458
C97: Kallinemine, € | D97: =+D96-D94 -> 3391.5617
C98: Kallinemise osakaal pakkumise ajal kehtinud masinate maksumusest kokku, % | D98: =D97/D94 -> 0.31996176
