Workbook

Sheet Kallinemise koondtabel
A1: Lõuna regiooni asfaltkatete kuumtaastamine remix meetodil ja Waide ristmiku ümber ehitus
A2: Tee-ehituse töövõtuleping | B2: 3.2-3/26/258-1
A3: Viitenumber | B3: 304446
A4: Objekt 1 - Riigitee nr 2 Tallinn-Tartu-Võru-Luhamaa km 125.687-129.831 remix
A5: Objekt 2 - Riigitee nr 2 Tallinn-Tartu-Võru-Luhamaa km 215.446-222.746 remix
A6: Objekt 3 - Riigitee nr 3 Jõhvi-Tartu-Valga km 155.421-174.493 remix
A7: Objekt 4 - Riigitee nr 3 Jõhvi-Tartu-Valga km 162.837 asuva Waide ristmiku ümberehitamine
A8: REMIX
A9: Diislikütuse kallinemine (remix), € | B9: =+Remix!D119 -> 4995.6064
A10: Diislikütuse kallinemine (remixi asfaldi vedu), € | B10: =+Remix!L18+Remix!L41+Remix!L65 -> 4299.2456
A11: Vedelgaasi kallinemine (propaani-butaani segu kuumutitele, €) | B11: =+Remix!D102 -> 32704.707
A12: Töö maksumus kokku remix objekt 1-3, € | B12: =+Remix!G7+Remix!G30+Remix!G53 -> 950709.42
A13: Kallinemise osakaal tööde maksumusest kokku, % | B13: =(B9+B10+B11)/B12*100 -> 4.4177073
A14: ASFALTEERIMINE
A15: Diislikütuse kallinemine (asfalteerimine), € | B15: =Asfalteerimine!D120 -> 3483.4193
A16: Diislikütuse kallinemine (asfaldi vedu), € | B16: =Asfalteerimine!K21+Asfalteerimine!K31+Asfalteerimine!K41+Asfalteerimine!K51+Asfalteerimine!K61+Asfalteerimine!K71+Asfalteerimine!K81+Asfalteerimine!K91+Asfalteerimine!K101 -> 2161.7822
A17: Töö maksumus kokku remix objekt 1-4, € | B17: =+Asfalteerimine!E23+Asfalteerimine!E33+Asfalteerimine!E43+Asfalteerimine!E53+Asfalteerimine!E63+Asfalteerimine!E73+Asfalteerimine!E83+Asfalteerimine!E93+Asfalteerimine!E103 -> 398923.77
A18: Kallinemise osakaal tööde maksumusest kokku, % | B18: =(B15+B16)/B17*100 -> 1.4151078
A19: FREESIMINE
A20: Diislikütuse kallinemine (freesimine), € | B20: =+Freesimine!D97 -> 3391.5617
A21: Diislikütuse kallinemine (freespuru vedu), € | B21: =+Freesimine!K21+Freesimine!K29+Freesimine!K37+Freesimine!K45+Freesimine!K53+Freesimine!K61+Freesimine!K69+Freesimine!K77+Freesimine!K85 -> 1262.2699
A22: Töö maksumus kokku remix objekt 1-4, € | B22: =+Freesimine!E22+Freesimine!E30+Freesimine!E38+Freesimine!E54+Freesimine!E62+Freesimine!E70+Freesimine!E78+Freesimine!E86 -> 51873.54
A23: Kallinemise osakaal tööde maksumusest kokku % | B23: =(B20+B21)/B22*100 -> 8.9714941
A24: PEENARDE KINDLUSTAMINE
A25: Diislikütuse kallinemine (peenramaterjali vedu), € | B25: =+'Peenramaterjali vedu'!G43+'Peenramaterjali vedu'!G22 -> 3468.67
A26: Töö maksumus kokku remix objekt 2-3, € | B26: =+'Peenramaterjali vedu'!G17+'Peenramaterjali vedu'!G38 -> 103872.91
A27: Kallinemise osakaal tööde maksumusest kokku % | B27: =(B25)/B26*100 -> 3.3393404
A28: Kallinemine kokku % | B28: =+B25+B21+B20+B16+B15+B11+B10+B9 -> 55767.262

Sheet Remix
A1: Tööde teostamine: | B1: Juuni - juuli 2026
A2: Objekt 1 - Riigitee nr 2 Tallinn-Tartu-Võru-Luhamaa km 125.687-129.831 remix
A3: Transport | I3: 40500 | J3: m2
I4: 4 | J4: ööd
A5: Artikli nr | C5: Makseartikli nimetus | D5: Mõõtühik | E5: Kokku teostatud tööde maht | F5: Üh.hind | G5: Summa
A6: 1 | C6: 2 | D6: 3 | E6: 4 | F6: 5 | G6: 6
A7: 42106*BHK | B7: a | C7: Sõidurajaremix; SMA16 | D7: m2 | E7: 46429.8 | F7: 4.2 | G7: =ROUND(E7*F7,2) -> 195005.16
A9: Materjal/mehhanism/ettevõte | B9: Maksumus kokku, € | C9: Märkused | D9: €/m2 | E9: Osakaal hinnast, % | F9: Maksumus, €
A10: Vedelgaas | B10: =$I$3*650*0.00085 -> 22376.25 | C10: Vedelgaasi hind 650€/t ning kulu 0.85kg/m2 - arvestatud öötööna ja madalam õhutemperatuur | D10: =+B10/$I$3 -> 0.5525 | E10: =B10/$B$23 -> 0.13154762 | F10: =+D10*$E$7 -> 25652.465
A11: SMA 16 | B11: =$I$3*0.015*77.2 -> 46899 | C11: SMA 16 hind 77.20€/t ning kulu 15kg/m2 | D11: =+B11/$I$3 -> 1.158 | E11: =B11/$B$23 -> 0.27571429 | F11: =+D11*$E$7 -> 53765.708
A12: Eritreiler (remixer) - Muuga sadam - Neanurme - Tallinn | B12: =140*2*3.5 -> 980 | C12: Vahemaa 140km (x 2) ja hind 3.5€/km | D12: =+B12/$I$3 -> 0.024197531 | E12: =B12/$B$23 -> 0.0057613169 | F12: =+D12*$E$7 -> 1123.4865
A13: Tavaline treiler (rullid) - Tartu - Muuga sadam - Neanurme - Tartu | B13: =200*2*1.7 -> 680 | C13: Vahemaa 200km (x 2) ja hind 1.7€/km | D13: =+B13/$I$3 -> 0.016790123 | E13: =B13/$B$23 -> 0.0039976484 | F13: =+D13*$E$7 -> 779.56207
A14: Asfalttikallio OY öötöö | B14: =40500*2.02 -> 81810 | C14: 2.02€/m2 | D14: =+B14/$I$3 -> 2.02 | E14: =B14/$B$23 -> 0.48095238 | F14: =+D14*$E$7 -> 93788.196
A15: Majutus | B15: =10*50*$I$4 -> 2000 | C15: 10 inimest ja 50€/öö | D15: =+B15/$I$3 -> 0.049382716 | E15: =B15/$B$23 -> 0.01175779 | F15: =+D15*$E$7 -> 2292.8296
A16: Töömees | B16: =20*14*$I$4 -> 1120 | C16: 4 ööd ja 14h/tööpäev | D16: =+B16/$I$3 -> 0.027654321 | E16: =B16/$B$23 -> 0.0065843621 | F16: =+D16*$E$7 -> 1283.9846
A17: Töölise/kütuse transport | B17: =50*$I$4 -> 200 | C17: 4 tööpäeva | D17: =+B17/$I$3 -> 0.0049382716 | E17: =B17/$B$23 -> 0.001175779 | F17: =+D17*$E$7 -> 229.28296 | H17: m2 | I17: Vedu pärast kütuste hinna tõusu (€) | J17: m2 | K17: Vedu pärast kütuste hinna tõusu (€) | L17: Veo kallinemine, €
A18: Asfaldi vedu | B18: =49*12*4*$I$4 -> 9408 | C18: 4ööd, 49€/h, 4tk ja 12h | D18: =+B18/$I$3 -> 0.2322963 | E18: =B18/$B$23 -> 0.055308642 | F18: =+D18*$E$7 -> 10785.471 | H18: 40500 | I18: =54*4*12*4 -> 10368 | J18: 46429.8 | K18: =+I18*J18/H18 -> 11886.029 | L18: =+K18-F18 -> 1100.5582
A19: Vee- ja harjaauto | B19: =40*10*$I$4 -> 1600 | C19: 4 tööpäeva ja 10h/päev | D19: =+B19/$I$3 -> 0.039506173 | E19: =B19/$B$23 -> 0.0094062316 | F19: =+D19*$E$7 -> 1834.2637
A20: Soolokallur | B20: =40*10*$I$4 -> 1600 | C20: 4 tööpäeva ja 10h/päev | D20: =+B20/$I$3 -> 0.039506173 | E20: =B20/$B$23 -> 0.0094062316 | F20: =+D20*$E$7 -> 1834.2637
A21: Minilaadur | B21: =$I$4*14*8 -> 448 | C21: 4 tööpäeva ja 8h/päev | D21: =+B21/$I$3 -> 0.011061728 | E21: =B21/$B$23 -> 0.0026337449 | F21: =+D21*$E$7 -> 513.59384
A22: Muud kulud | B22: =(170100/40500-SUM(B10:B21)/40500)*40500 -> 978.75 | C22: BORNIT vuukide töötlemiseks ja töö teostamine, valve | D22: =+B22/$I$3 -> 0.024166667 | E22: =B22/$B$23 -> 0.0057539683 | F22: =+D22*$E$7 -> 1122.0535
A23: Summa | B23: =+SUM(B10:B22) -> 170100 | D23: =+SUM(D10:D22) -> 4.2 | E23: €/m2 | F23: =+SUM(F10:F22) -> 195005.16
A25: Objekt 2 - Riigitee nr 2 Tallinn-Tartu-Võru-Luhamaa km 215.446-222.746 remix
I26: 52560 | J26: m2
I27: 4 | J27: päeva
A28: Artikli nr | C28: Makseartikli nimetus | D28: Mõõtühik | E28: Kokku teostatud tööde maht | F28: Üh.hind | G28: Summa
A29: 1 | C29: 2 | D29: 3 | E29: 4 | F29: 5 | G29: 6
A30: 42106*BHK | B30: a | C30: Sõidurajaremix; AC 16 Surf | D30: m2 | E30: 56878 | F30: 3.87 | G30: =ROUND(E30*F30,2) -> 220117.86
A32: Materjal/mehhanism/ettevõte | B32: Maksumus kokku, € | C32: Märkused | D32: €/m2 | E32: Osakaal hinnast, % | F32: Maksumus, €
A33: Vedelgaas | B33: =$I$26*0.00075*650 -> 25623 | C33: Vedelgaasi hind 650€/t ning kulu 0.75kg/m2 | D33: =+B33/$I$26 -> 0.4875 | E33: =B33/$B$46 -> 0.12596899 | F33: =+D33*$E$30 -> 27728.025
A34: AC 16 surf | B34: =$I$26*0.015*68.9 -> 54320.76 | C34: AC 16 surf hind 68.90€/t ning kulu 15kg/m2 | D34: =+B34/$I$26 -> 1.0335 | E34: =B34/$B$46 -> 0.26705426 | F34: =+D34*$E$30 -> 58783.413
A35: Eritreiler (remixer) - Tallinn - Neanurme - Saverna - Tallinn | B35: =250*2*3.5 -> 1750 | C35: Vahemaa 250km (x 2) ja hind 3.5€/km | D35: =+B35/$I$26 -> 0.033295282 | E35: =B35/$B$46 -> 0.0086034319 | F35: =+D35*$E$30 -> 1893.769
A36: Tavaline treiler (rullid) - Tartu - Neanurme - Saverna - Tartu | B36: =200*1.7 -> 340 | C36: Vahemaa 200km ja hind 1.7€/km | D36: =+B36/$I$26 -> 0.0064687976 | E36: =B36/$B$46 -> 0.0016715239 | F36: =+D36*$E$30 -> 367.93227
A37: Asfalttikallio OY | B37: =$I$26*1.95 -> 102492 | C37: 1.95€/m2 | D37: =+B37/$I$26 -> 1.95 | E37: =B37/$B$46 -> 0.50387597 | F37: =+D37*$E$30 -> 110912.1
A38: Majutus | B38: =10*50*I27 -> 2000 | C38: 10 inimest ja 50€/öö | D38: =+B38/$I$26 -> 0.03805175 | E38: =B38/$B$46 -> 0.0098324936 | F38: =+D38*$E$30 -> 2164.3075
A39: Töömees | B39: =20*14*I27 -> 1120 | C39: 4 ööd ja 14h/tööpäev | D39: =+B39/$I$26 -> 0.02130898 | E39: =B39/$B$46 -> 0.0055061964 | F39: =+D39*$E$30 -> 1212.0122
A40: Töölise/kütuse transport | B40: =50*I27 -> 200 | C40: 4 tööpäeva | D40: =+B40/$I$26 -> 0.003805175 | E40: =B40/$B$46 -> 0.00098324936 | F40: =+D40*$E$30 -> 216.43075 | H40: m2 | I40: Vedu pärast kütuste hinna tõusu (€) | J40: m2 | K40: Vedu pärast kütuste hinna tõusu (€) | L40: Veo kallinemine, €
A41: Asfaldi vedu | B41: =49*12*4*I27 -> 9408 | C41: 4ööd, 49€/h, 4tk ja 12h | D41: =+B41/$I$26 -> 0.17899543 | E41: =B41/$B$46 -> 0.04625205 | F41: =+D41*$E$30 -> 10180.902 | H41: 52560 | I41: =54*4*12*4 -> 10368 | J41: 56878 | K41: =+I41*J41/H41 -> 11219.77 | L41: =+K41-F41 -> 1038.8676
A42: Vee- ja harjaauto | B42: =40*10*I27 -> 1600 | C42: 4 tööpäeva ja 10h/päev | D42: =+B42/$I$26 -> 0.0304414 | E42: =B42/$B$46 -> 0.0078659949 | F42: =+D42*$E$30 -> 1731.446
A43: Soolokallur | B43: =40*10*I27 -> 1600 | C43: 4 tööpäeva ja 10h/päev | D43: =+B43/$I$26 -> 0.0304414 | E43: =B43/$B$46 -> 0.0078659949 | F43: =+D43*$E$30 -> 1731.446
...

Sheet Peenramaterjali vedu
A1: Tööde teostamine: | B1: Juuni - august 2026
A2: PEENARDE KINDLUSTAMINE
A3: Objekt 2 - Riigitee nr 2 Tallinn-Tartu-Võru-Luhamaa km 215.446-222.746 remix
A4: Transport
A5: Materjal/mehhanism/ettevõte | B5: Maksumus kokku, € | C5: Märkused | D5: €/m2 | E5: Osakaal hinnast, % | F5: Maksumus, €
A6: 0/16 | B6: =14600*0.05*1.8*6.9 -> 9066.6 | D6: =+B6/14600 -> 0.621 | E6: =+B6/29054 -> 0.3120603 | F6: =+D6*14779 -> 9177.759
A7: Vedu | B7: =14600*0.05*1.8*67*0.09 -> 7923.42 | C7: Vedu 67km ja 0.09 €/tkm | D7: =+B7/14600 -> 0.5427 | E7: =+B7/29054 -> 0.27271357 | F7: =+D7*14779 -> 8020.5633
A8: Treiler | B8: =240*4*1.7 -> 1632 | C8: Vahemaa 240km (x 2) ja hind 1.7€/km | D8: =+B8/14600 -> 0.11178082 | E8: =+B8/29054 -> 0.056171267 | F8: =+D8*14779 -> 1652.0088
A9: Töömees | B9: =4*20*14 -> 1120 | C9: 4 tööpäeva ja 14h/tööpäev | D9: =+B9/14600 -> 0.076712329 | E9: =+B9/29054 -> 0.038548909 | F9: =+D9*14779 -> 1133.7315
A10: Auto | B10: =50*4 -> 200 | C10: 4 tööpäeva | D10: =+B10/14600 -> 0.01369863 | E10: =+B10/29054 -> 0.0068837337 | F10: =+D10*14779 -> 202.45205
A11: Laotamine | B11: =140*14*4 -> 7840 | C11: 140€/h ja 4 tööpäeva | D11: =+B11/14600 -> 0.5369863 | E11: =+B11/29054 -> 0.26984236 | F11: =+D11*14779 -> 7936.1205
A12: Parandustööd tähispostide paigaldamise järgselt | B12: =(29054/14600-SUM(B6:B11)/14600)*14600 -> 1271.98 | C12: Laotur ja töömees | D12: =+B12/14600 -> 0.087121918 | E12: =+B12/29054 -> 0.043779858 | F12: =+D12*14779 -> 1287.5748
A13: Summa | B13: =+SUM(B6:B12) -> 29054 | D13: =+SUM(B6:B12)/14600 -> 1.99 | E13: €/m2
A15: Artikli nr | C15: Makseartikli nimetus | D15: Mõõtühik | E15: Kokku teostatud tööde maht | F15: Üh.hind | G15: Summa
A16: 1 | C16: 2 | D16: 3 | E16: 4 | F16: 5 | G16: 6
A17: 44499 | C17: Peenarde kindlustamine , hkesk=5 cm | D17: m2 | E17: 14779 | F17: 1.99 | G17: =ROUND(E17*F17,2) -> 29410.21
D19: 2026 algus | E19: Pärast sõda
A20: Makseartikli nimetus | B20: Maht kokku, t | C20: Veomaa, km | D20: Puistematerjal EUR (t/km) | E20: Puistematerjal EUR (t/km) | F20: Puistematerjal EUR (t/km) vahe | G20: Veo kallinemine, €/t
A21: Peenarde kindlustamine, h=5cm | B21: 1205.95 | C21: 67 | D21: 0.09 | E21: 0.096 | F21: =+E21-D21 -> 0.006 | G21: =+ROUND(B21*C21*F21,2) -> 484.79 | H21: Lisa 2 Vedude hinnakiri 2026 Damper Trans OÜ.msg | I21: Lisa 3 Hinnapakkumine Damper Trans OÜ (21.05.2026).msg
F22: Kokku kallinemine objekt 2, € | G22: =+G21 -> 484.79
F23: Kallinemise osakaal pakkumise ajal kehtinud peenramaterjali veo maksumusest kokku % | G23: =+G22/(B21*C21*D21) -> 0.066666405
A24: Objekt 3 - Riigitee nr 3 Jõhvi-Tartu-Valga km 155.421-174.493 remix
A26: Materjal/mehhanism/ettevõte | B26: Maksumus kokku, € | C26: Märkused | D26: €/m2 | E26: Osakaal hinnast, % | F26: Maksumus, €
A27: 0/16 | B27: =38000*0.05*1.7*7 -> 22610 | D27: =+B27/38000 -> 0.595 | E27: =+F27/74462.7 -> 0.30512821 | F27: =+D27*38186 -> 22720.67
A28: Vedu | B28: =38000*0.05*1.7*90*0.083 -> 24128.1 | C28: Vedu 90 km ja 0.083 €/tkm | D28: =+B28/38000 -> 0.63495 | E28: =+F28/74462.7 -> 0.32561538 | F28: =+D28*38186 -> 24246.201
A29: Treiler | B29: =240*4*1.7 -> 1632 | C29: Vahemaa 240km (x 2) ja hind 1.7€/km | D29: =+B29/38000 -> 0.042947368 | E29: =+F29/74462.7 -> 0.022024291 | F29: =+D29*38186 -> 1639.9882
A30: Töömees | B30: =12*20*14 -> 3360 | C30: 12 tööpäeva ja 14h/tööpäev | D30: =+B30/38000 -> 0.088421053 | E30: =+F30/74462.7 -> 0.04534413 | F30: =+D30*38186 -> 3376.4463
A31: Auto | B31: =50*12 -> 600 | C31: 12 tööpäeva | D31: =+B31/38000 -> 0.015789474 | E31: =+F31/74462.7 -> 0.008097166 | F31: =+D31*38186 -> 602.93684
A32: Laotamine | B32: =140*12*12 -> 20160 | C32: 140€/h ja 4 tööpäeva | D32: =+B32/38000 -> 0.53052632 | E32: =+F32/74462.7 -> 0.27206478 | F32: =+D32*38186 -> 20258.678
A33: Parandustööd tähispostide paigaldamise järgselt | B33: =(74100/38000-SUM(B27:B32)/38000)*38000 -> 1609.9 | C33: Laotur ja töömees | D33: =+B33/38000 -> 0.042365789 | E33: =+F33/74462.7 -> 0.021726046 | F33: =+D33*38186 -> 1617.78
A34: Summa | B34: =+SUM(B27:B33) -> 74100 | D34: =+SUM(B27:B33)/38000 -> 1.95 | E34: €/m2
A36: Artikli nr | C36: Makseartikli nimetus | D36: Mõõtühik | E36: Kokku teostatud tööde maht | F36: Üh.hind | G36: Summa
A37: 1 | C37: 2 | D37: 3 | E37: 4 | F37: 5 | G37: 6
A38: 44501 | C38: Peenarde kindlustamine , hkesk=5 cm | D38: m2 | E38: 38186 | F38: 1.95 | G38: =ROUND(E38*F38,2) -> 74462.7
D40: 2026 algus | E40: Pärast sõda
A41: Makseartikli nimetus | B41: Maht kokku, t | C41: Veomaa, km | D41: Puistematerjal EUR (t/km) | E41: Puistematerjal EUR (t/km) | F41: Puistematerjal EUR (t/km) vahe | G41: Veo kallinemine, €/t
A42: Peenarde kindlustamine, h=5cm | B42: =2864.1+819.7 -> 3683.8 | C42: 90 | D42: 0.083 | E42: 0.092 | F42: =+E42-D42 -> 0.009 | G42: =+ROUND(B42*C42*F42,2) -> 2983.88 | H42: Lisa 2 Vedude hinnakiri 2026 Damper Trans OÜ.msg | I42: Lisa 3 Hinnapakkumine Damper Trans OÜ (21.05.2026).msg
F43: Kokku kallinemine objekt 3, € | G43: =G42 -> 2983.88
F44: Kallinemise osakaal pakkumise ajal kehtinud peenramaterjali veo maksumusest kokku % | G44: =+G43/(B42*C42*D42) -> 0.10843381

Sheet Asfalteerimine
A1: Tööde teostamine: | B1: Mai - juuli 2026
A2: ASFALTEERIMINE
A3: Transport | B3: TÖÖDE TEOSTAMISE AJAL
A4: Objekt | B4: Artikli nr | C4: Makseartikli nimetus | D4: Maht kokku tegelik, m2 | E4: Tööpäevade arv, tk
A5: 1 T2 km 125.687-129.831 | B5: 43002b*BHK | C5: AC 16 surf, h=6cm | D5: 3503 | E5: 2
A6: 2 T2 km 215.446-222.746 | B6: 43002b*BHK | C6: AC 16 surf, h=6cm | D6: 1694 | E6: 2
A7: 3 T3 km 155.421-174.493 | B7: 43002b*BHK | C7: AC 16 surf, h=5cm | D7: 1903 | E7: 1
B8: 43002c*BHK | C8: AC 16 surf, h=6cm | D8: 13186 | E8: 10
A9: 4 T3 km 162.837 Waide ristmiku ümberehitamine | B9: 43002a*BHK | C9: AC 16 surf, h=6cm | D9: 1833 | E9: 1
B10: 43002b*BHK | C10: AC 16 surf, h=5cm | D10: 1455 | E10: 1
B11: 43002c*BHK | C11: AC 8 surf, h=5cm | D11: 232 | E11: 0.5
B12: 43003a*BHK | C12: AC 32 base, h=7cm | D12: 64 | E12: 0.5
B13: 43003b*BHK | C13: AC 32 base, h=6cm | D13: 1270 | E13: 1
E14: =+SUM(E5:E13) -> 19
A15: PAKKUMISES ARVESTATUD | B15: 3 tööpäeva | C15: 4000 | D15: m2
A16: 1 T2 km 125.687-129.831 | B16: 43002b*BHK | C16: AC 16 surf, h=6cm | E16: ARVUTUSLIK, KUI HINNAD EI OLEKS TÕUSNUD | H16: KALLINEMINE
A17: Materjal/mehhanism/ettevõte | B17: Maksumus kokku, € | C17: €/m2 | D17: Osakaal hinnast, % | E17: Maksumus, €
A18: Töömehed ja tööjuht, € | B18: 9131.2872 | C18: =+B18/4000 -> 2.2828218 | D18: =B18/$B$23 -> 0.13218424 | E18: =+C18*$D$5 -> 7996.7248
A19: Masinad, € | B19: 9475.4113 | C19: =+B19/4000 -> 2.3688528 | D19: =B19/$B$23 -> 0.13716577 | E19: =+C19*$D$5 -> 8298.0915
A20: Muud (emulsioon, valve, treilervedu, jne), € | B20: =69080-B18-B19-B21-B22 -> 4833.7014 | C20: =+B20/4000 -> 1.2084254 | D20: =B20/$B$23 -> 0.069972517 | E20: =+C20*$D$5 -> 4233.114 | G20: m2 | H20: Vedu pärast kütuste hinna tõusu (€) | I20: m2 | J20: Vedu pärast kütuste hinna tõusu (€) | K20: Veo kallinemine, €
A21: Vedu, € | B21: =49*9*3*2 -> 2646 | C21: =+B21/4000 -> 0.6615 | D21: =B21/$B$23 -> 0.038303416 | E21: =+C21*$D$5 -> 2317.2345 | G21: 4000 | H21: =54*9*3*2 -> 2916 | I21: 3503 | J21: =+H21*I21/G21 -> 2553.687 | K21: =+J21-E21 -> 236.4525
A22: Segu, € | B22: =+C15*0.06*2.6*68.9 -> 42993.6 | C22: =69080/4000-SUM(C18:C21) -> 10.7484 | D22: =B22/$B$23 -> 0.62237406 | E22: =+C22*$D$5 -> 37651.645
A23: Summa | B23: =+SUM(B18:B22) -> 69080 | C23: =+SUM(C18:C22) -> 17.27 | D23: €/m2 | E23: =+SUM(E18:E22) -> 60496.81
A25: PAKKUMISES ARVESTATUD | B25: 3 tööpäeva | C25: 3700 | D25: m2
A26: 2 T2 km 215.446-222.746 | B26: 43002b*BHK | C26: AC 16 surf, h=6cm
A27: Materjal/mehhanism/ettevõte | B27: Maksumus kokku, € | C27: €/m2 | D27: Osakaal hinnast, % | E27: Maksumus, €
A28: Töömehed ja tööjuht, € | B28: =2926*3 -> 8778 | C28: =+B28/3700 -> 2.3724324 | D28: =B28/$B$33 -> 0.13963699 | E28: =+C28*$D$6 -> 4018.9005
A29: Masinad, € | B29: =2853.6*3 -> 8560.8 | C29: =+B29/3700 -> 2.3137297 | D29: =B29/$B$33 -> 0.13618186 | E29: =+C29*$D$6 -> 3919.4582
A30: Muud (emulsioon, valve, treilervedu, jne), € | B30: =62863-B28-B29-B31-B32 -> 3109.12 | C30: =+B30/3700 -> 0.8403027 | D30: =B30/$B$33 -> 0.049458664 | E30: =+C30*$D$6 -> 1423.4728 | G30: m2 | H30: Vedu pärast kütuste hinna tõusu (€) | I30: m2 | J30: Vedu pärast kütuste hinna tõusu (€) | K30: Veo kallinemine, €
A31: Vedu, € | B31: =49*9*3*2 -> 2646 | C31: =+B31/3700 -> 0.71513514 | D31: =B31/$B$33 -> 0.042091532 | E31: =+C31*$D$6 -> 1211.4389 | G31: 3700 | H31: =54*9*3*2 -> 2916 | I31: 1694 | J31: =+H31*I31/G31 -> 1335.0551 | K31: =+J31-E31 -> 123.61622
A32: Segu, € | B32: =3700*0.06*2.6*68.9 -> 39769.08 | C32: =62863/3700-SUM(C28:C31) -> 10.7484 | D32: =B32/$B$33 -> 0.63263096 | E32: =+C32*$D$6 -> 18207.79
A33: Summa | B33: =+SUM(B28:B32) -> 62863 | C33: =+SUM(C28:C32) -> 16.99 | D33: €/m2 | E33: =+SUM(E28:E32) -> 28781.06
A35: PAKKUMISES ARVESTATUD | B35: 1 tööpäev | C35: 2650 | D35: m2
A36: 3 T3 km 155.421-174.493 | B36: 43002b*BHK | C36: AC 16 surf, h=5cm
A37: Materjal/mehhanism/ettevõte | B37: Maksumus kokku, € | C37: €/m2 | D37: Osakaal hinnast, % | E37: Maksumus, €
A38: Töömehed ja tööjuht (€/päev) | B38: 2926 | C38: =+B38/2650 -> 1.1041509 | D38: =B38/$B$43 -> 0.091859479 | E38: =+C38*$D$7 -> 2101.1992
A39: Masinad (€/päev) | B39: 3394.1 | C39: =+B39/2650 -> 1.2807925 | D39: =B39/$B$43 -> 0.10655511 | E39: =+C39*$D$7 -> 2437.348
A40: Muud (€/päev) | B40: 940 | C40: =+B40/2650 -> 0.35471698 | D40: =B40/$B$43 -> 0.029510564 | E40: =+C40*$D$7 -> 675.02642 | G40: m2 | H40: Vedu pärast kütuste hinna tõusu (€) | I40: m2 | J40: Vedu pärast kütuste hinna tõusu (€) | K40: Veo kallinemine, €
A41: Vedu (€/päev) | B41: =4*10*49 -> 1960 | C41: =+B41/2650 -> 0.73962264 | D41: =B41/$B$43 -> 0.061532666 | E41: =+C41*$D$7 -> 1407.5019 | G41: 2650 | H41: =54*4*10 -> 2160 | I41: 1903 | J41: =+H41*I41/G41 -> 1551.1245 | K41: =+J41-E41 -> 143.62264
A42: Segu | B42: =+C42*2650 -> 22632.9 | C42: =31853/2650-SUM(C38:C41) -> 8.540717 | D42: =B42/$B$43 -> 0.71054218 | E42: =+C42*$D$7 -> 16252.984
...

Sheet Freesimine
A1: Tööde teostamine: | B1: Mai - juuli 2026
A2: FREESIMINE
A3: Transport | B3: TÖÖDE TEOSTAMISE AJAL
A4: Objekt | B4: Artikli nr | C4: Makseartikli nimetus | D4: Maht kokku tegelik, m2 | E4: Tööpäevade arv, tk
A5: 1 T2 km 125.687-129.831 | B5: 40101 | C5: Katte freesimine, h=6cm (defektid) | D5: 3503 | E5: 2
A6: 2 T2 km 215.446-222.746 | B6: 40101 | C6: Katte freesimine, h=6cm (defektid) | D6: 1694 | E6: 2
A7: 3 T3 km 155.421-174.493 | B7: 40101a | C7: Katte freesimine, h=6cm (defektid) | D7: 7274 | E7: 6
B8: 40101b | C8: Katte freesimine, h=6cm (telje mõrad) | D8: 5912 | E8: 4
B9: 40101c | C9: Vapramäe sild, h=5cm | D9: 1903 | E9: 1
A10: 4 T3 km 162.837 Waide ristmiku ümberehitamine | B10: 40101a | C10: Olemasoleva katendi freesimine, h=13cm | D10: 1064 | E10: 0.5
B11: 40101b | C11: Olemasoleva katendi freesimine, h=11cm | D11: 2278 | E11: 0.5
B12: 40102a | C12: Olemasoleva katendi tasandusfreesimine, h=6cm | D12: 1786 | E12: 0.5
B13: 40102b | C13: Olemasoleva katendi tasandusfreesimine, h=5cm | D13: 192 | E13: 0.1
E14: =+SUM(E5:E13) -> 16.6
A16: PAKKUMISES ARVESTATUD | B16: 3 tööpäeva | C16: 4000 | D16: m2
A17: 1 T2 km 125.687-129.831 | B17: 40101 | C17: Katte freesimine, h=6cm (defektid) | E17: ARVUTUSLIK, KUI HINNAD EI OLEKS TÕUSNUD | H17: KALLINEMINE
A18: Materjal/mehhanism/ettevõte | B18: Maksumus kokku, € | C18: €/m2 | D18: Osakaal hinnast, % | E18: Maksumus, €
A19: Töömehed ja tööjuht (€/päev) | B19: =+(4*20*12+350)*3 -> 3930 | C19: =+B19/4000 -> 0.9825 | D19: =B19/$B$22 -> 0.28071429 | E19: =+C19*$D$5 -> 3441.6975
A20: Masinad (€/päev) | B20: =14000-B19-B21 -> 7250 | C20: =+B20/4000 -> 1.8125 | D20: =B20/$B$22 -> 0.51785714 | E20: =+C20*$D$5 -> 6349.1875 | G20: m2 | H20: Vedu pärast kütuste hinna tõusu (€) | I20: m2 | J20: Vedu pärast kütuste hinna tõusu (€) | K20: Veo kallinemine, €
A21: Vedu (€/päev) | B21: =2*10*47*3 -> 2820 | C21: =+B21/4000 -> 0.705 | D21: =B21/$B$22 -> 0.20142857 | E21: =+C21*$D$5 -> 2469.615 | G21: 4000 | H21: =2*10*51*3 -> 3060 | I21: 3503 | J21: =+H21*I21/G21 -> 2679.795 | K21: =+J21-E21 -> 210.18
A22: Summa | B22: =+SUM(B19:B21) -> 14000 | C22: =+SUM(C19:C21) -> 3.5 | D22: €/m2 | E22: =+SUM(E19:E21) -> 12260.5
A24: PAKKUMISES ARVESTATUD | B24: 3 tööpäeva | C24: 3700 | D24: m2
A25: 2 T2 km 215.446-222.746 | B25: 40101 | C25: Katte freesimine, h=6cm (defektid)
A26: Materjal/mehhanism/ettevõte | B26: Maksumus kokku, € | C26: €/m2 | D26: Osakaal hinnast, % | E26: Maksumus, €
A27: Töömehed ja tööjuht (€/päev) | B27: =+(4*20*12+350)*3 -> 3930 | C27: =+B27/3700 -> 1.0621622 | D27: =B27/$B$30 -> 0.28400058 | E27: =+C27*$D$6 -> 1799.3027
A28: Masinad (€/päev) | B28: =13838-B27-B29 -> 7088 | C28: =+B28/3700 -> 1.9156757 | D28: =B28/$B$30 -> 0.51221275 | E28: =+C28*$D$6 -> 3245.1546 | G28: m2 | H28: Vedu pärast kütuste hinna tõusu (€) | I28: m2 | J28: Vedu pärast kütuste hinna tõusu (€) | K28: Veo kallinemine, €
A29: Vedu (€/päev) | B29: =2*10*47*3 -> 2820 | C29: =+B29/3700 -> 0.76216216 | D29: =B29/$B$30 -> 0.20378667 | E29: =+C29*$D$6 -> 1291.1027 | G29: 3700 | H29: =2*10*51*3 -> 3060 | I29: 1694 | J29: =+H29*I29/G29 -> 1400.9838 | K29: =+J29-E29 -> 109.88108
A30: Summa | B30: =+SUM(B27:B29) -> 13838 | C30: =+SUM(C27:C29) -> 3.74 | D30: €/m2 | E30: =+SUM(E27:E29) -> 6335.56
A32: PAKKUMISES ARVESTATUD | B32: 4 tööpäeva | C32: 6100 | D32: m2
A33: 3 T3 km 155.421-174.493 | B33: 40101a | C33: Katte freesimine, h=6cm (defektid)
A34: Materjal/mehhanism/ettevõte | B34: Maksumus kokku, € | C34: €/m2 | D34: Osakaal hinnast, % | E34: Maksumus, €
A35: Töömehed ja tööjuht (€/päev) | B35: =+(4*20*12+350)*4 -> 5240 | C35: =+B35/6100 -> 0.85901639 | D35: =B35/$B$38 -> 0.28729645 | E35: =+C35*$D$7 -> 6248.4852
A36: Masinad (€/päev) | B36: =18239-B35-B37 -> 9239 | C36: =+B36/6100 -> 1.5145902 | D36: =B36/$B$38 -> 0.50655189 | E36: =+C36*$D$7 -> 11017.129 | G36: m2 | H36: Vedu pärast kütuste hinna tõusu (€) | I36: m2 | J36: Vedu pärast kütuste hinna tõusu (€) | K36: Veo kallinemine, €
A37: Vedu (€/päev) | B37: =2*10*47*4 -> 3760 | C37: =+B37/6100 -> 0.61639344 | D37: =B37/$B$38 -> 0.20615165 | E37: =+C37*$D$7 -> 4483.6459 | G37: 6100 | H37: =2*10*51*4 -> 4080 | I37: 7274 | J37: =+H37*I37/G37 -> 4865.2328 | K37: =+J37-E37 -> 381.58689
A38: Summa | B38: =+SUM(B35:B37) -> 18239 | C38: =+SUM(C35:C37) -> 2.99 | D38: €/m2 | E38: =+SUM(E35:E37) -> 21749.26
A40: PAKKUMISES ARVESTATUD | B40: 4 tööpäeva | C40: 5000 | D40: m2
A41: 3 T3 km 155.421-174.493 | B41: 40101b | C41: Katte freesimine, h=6cm (defektid)
A42: Materjal/mehhanism/ettevõte | B42: Maksumus kokku, € | C42: €/m2 | D42: Osakaal hinnast, % | E42: Maksumus, €
A43: Töömehed ja tööjuht (€/päev) | B43: =+(4*20*12+350)*4 -> 5240 | C43: =+B43/5000 -> 1.048 | D43: =B43/$B$46 -> 0.28555858 | E43: =+C43*$D$8 -> 6195.776
A44: Masinad (€/päev) | B44: =18350-B43-B45 -> 9350 | C44: =+B44/5000 -> 1.87 | D44: =B44/$B$46 -> 0.50953678 | E44: =+C44*$D$8 -> 11055.44 | G44: m2 | H44: Vedu pärast kütuste hinna tõusu (€) | I44: m2 | J44: Vedu pärast kütuste hinna tõusu (€) | K44: Veo kallinemine, €
...
